Workbook
Name _Toc172713199: 'Graf 68-70'!$B$33

Sheet Obsah
B2: Zpráva o vývoji cen na trzích elektronických komunikací 2021-2025
B4: 1 Univerzální služba
B6: 1.1 VÝVOJ CEN DÍLČÍCH UNIVERZÁLNÍCH SLUŽEB, U KTERÝCH JE ULOŽENA POVINNOST POSKYTOVAT UNIVERZÁLNÍ SLUŽBU PODLE § 38 ZEK
B7: 1.1.1 UNIVERZÁLNÍ SLUŽBA – SLUŽBY POSKYTOVANÉ ZA „ZVLÁŠTNÍ CENY“ OSOBÁM SE ZVLÁŠTNÍMI SOCIÁLNÍMI POTŘEBAMI (§ 38 ODST. 3 ZEK)
B8: Graf č. 1: | D8: ='Graf 1'!B10 -> Porovnání nejlevnějších tarifů hlasové komunikační služby společnosti O2 s neomezeným voláním a s nejnižší cenou s využitím zvláštních cen
B9: Graf č. 2: | D9: ='Graf 2'!B9 -> Porovnání nejlevnějších tarifů hlasové komunikační služby v pevném místě s využitím zvláštních cen – srovnání operátorů
B10: Graf č. 3: | D10: ='Graf 3'!B9 -> Porovnání nejlevnějších tarifů hlasové komunikační služby v pevném místě s neomezenými minutami s využitím zvláštních cen – srovnání operátorů
B11: Graf č. 4: | D11: ='Graf 4'!B9 -> Porovnání nejlevnějších tarifů hlasové komunikační služby v mobilní síti s využitím zvláštních cen – srovnání operátorů
B12: Graf č. 5: | D12: ='Graf 5'!B9 -> Porovnání nejlevnějších tarifů hlasové komunikační služby v mobilní síti s neomezenými jednotkami s využitím zvláštních cen – srovnání operátorů
B13: Graf č. 6: | D13: ='Graf 6'!B9 -> Porovnání nejlevnějších tarifů přiměřeného přístupu k internetu v pevném místě s využitím zvláštních cen – srovnání operátorů
B14: Graf č. 7: | D14: ='Graf 7'!B9 -> Porovnání nejlevnějších tarifů přiměřeného přístupu k mobilnímu internetu s využitím zvláštních cen – srovnání operátorů
B16: 1.2 VÝVOJ CEN SLUŽEB, U KTERÝCH NENÍ ULOŽENA POVINNOST POSKYTOVAT UNIVERZÁLNÍ SLUŽBU PODLE § 38 ZEK
B17: 1.2.1 DÍLČÍ SLUŽBA – PŘIMĚŘENÝ PŘÍSTUP K INTERNETU V PEVNÉM MÍSTĚ VČETNĚ PŘIPOJENÍ POTŘEBNÉHO PRO VYUŽÍVÁNÍ SLUŽBY (§ 38 ODST. 2 PÍSM. A))
B18: Graf č. 8: | D18: ='Graf 8'!B11 -> Ceny za přiměřený přístup k internetu v pevném místě u nejlevnějšího tarifu
B20: 1.2.2 DÍLČÍ SLUŽBA PŘÍSTUP K HLASOVÉ KOMUNIKAČNÍ SLUŽBĚ V PEVNÉM MÍSTĚ VČETNĚ PŘIPOJENÍ POTŘEBNÉHO K VYUŽÍVÁNÍ SLUŽBY (§ 38 ODST. 2 PÍSM. B))
B21: 1.2.2.1 CENY ZA PŘÍSTUP K HLASOVÉ KOMUNIKAČNÍ SLUŽBĚ V PEVNÉM MÍSTĚ
B22: Graf č. 9: | D22: ='Graf 9'!B9 -> Vývoj nejnižší ceny za přístup k hlasové komunikační službě v pevném místě
B23: Graf č. 10: | D23: ='Graf 10'!B9 -> Vývoj ceny za přístup k hlasové komunikační službě v pevném místě společnosti O2 v porovnání s indexem vývoje inflace a průměrné mzdy
B24: Graf č. 11: | D24: ='Graf 11'!B10 -> Vývoj ceny za přístup k hlasové komunikační službě v pevném místě společnosti O2 v porovnání s korigovaným indexem podle inflace a průměrné mzdy
B26: 1.2.3 CENY ZA PŘIPOJENÍ POTŘEBNÉ PRO VYUŽÍVÁNÍ SLUŽBY PŘIMĚŘENÝ PŘÍSTUP K INTERNETU V PEVNÉM MÍSTĚ A SLUŽBY PŘÍSTUPU K HLASOVÉ KOMUNIKAČNÍ SLUŽBĚ V PEVNÉM MÍSTĚ
B27: Tabulka č. 1: | D27: ='Tabulka 1'!B2 -> Přehled cen služeb souvisejících s připojením
B29: 2 Maloobchodní služby v pevném místě
B31: 2.1 HLASOVÁ KOMUNIKAČNÍ SLUŽBA V PEVNÉM MÍSTĚ
B32: Graf č. 12: | D32: ='Graf 12'!B9 -> Vývoj cen základních neomezených tarifů určených pro hlasovou komunikační službu v pevném místě - srovnání operátorů
B34: 2.2 VÝVOJ PRŮMĚRNÝCH (JEDNOTKOVÝCH) CEN HLASOVÝCH SLUŽEB V PEVNÝCH SÍTÍCH
B35: Graf č. 13: | D35: ='Graf 13'!B9 -> Průměrné ceny za trh v členění fyzické osoby, právnické osoby
B37: 2.3 PŘÍSTUP K INTERNETU V PEVNÉM MÍSTĚ
B38: Graf č. 14: | D38: ='Graf 14'!B9 -> Vývoj cen za službu internet v pevné síti – O2
B39: Graf č. 15: | D39: ='Graf 15'!B9 -> Vývoj cen za službu internet v pevné síti – T-Mobile
B40: Graf č. 16: | D40: ='Graf 16'!B9 -> Vývoj cen za službu internet v pevné síti – Vodafone
B41: Graf č. 17: | D41: ='Graf 17'!B9 -> Vývoj cen za službu internet v pevné síti – STARNET
B43: 2.3.1 PEVNÉ PŘIPOJENÍ PROSTŘEDNICTVÍM FIXNÍ LTE/5G
B44: Graf č. 18: | D44: ='Graf 18'!B9 -> Srovnání nabídek služby fixní LTE/5G
B46: 2.3.2 PŘÍSTUP K INTERNETU V PEVNÝCH SÍTÍCH – SROVNÁNÍ S EU
B47: Graf č. 19: | D47: ='Graf 19'!I4 -> Mezinárodní srovnání přístupu k internetu v pevných sítích
B49: 2.3.3 MEZINÁRODNÍ SROVNÁNÍ CEN FIXNÍCH SLUŽEB ZE STRANY EK
B50: Graf č. 20: | D50: ='Graf 20'!B2 -> Cenové srovnání pevných služeb v zemích EU
B52: 3 Maloobchodní mobilní služby
B54: 3.1 PRŮMĚRNÁ MALOOBCHODNÍ CENA ZA MINUTU VOLÁNÍ
B55: Graf č. 21: | D55: ='Graf 21'!B12 -> Průměrná maloobchodní cena operátora za 1 min. volání podle směru volání za rok 2025
B57: 3.1.1 CELKEM TRH
B58: Graf č. 22: | D58: ='Graf 22'!B9 -> Vývoj průměrné maloobchodní ceny za skutečně provolanou minutu a počtu skutečně provolaných minut
B60: 3.1.2 REZIDENTI
B61: Graf č. 23: | D61: ='Graf 23'!B9 -> Vývoj průměrné maloobchodní ceny za skutečně provolanou minutu a počtu skutečně provolaných minut (rezidenti)
B63: 3.1.3 PODNIKATELÉ
B64: Graf č. 24: | D64: ='Graf 24'!B9 -> Vývoj průměrné maloobchodní ceny za skutečně provolanou minutu a počtu skutečně provolaných minut u mobilních operátorů (podnikatelé)
B66: 3.1.4 SÍŤOVÍ OPERÁTOŘI (MNO)
B67: Graf č. 25: | D67: ='Graf 25'!B8 -> Průměrná maloobchodní cena za skutečně provolanou minutu u tří síťových operátorů (MNO)
B69: 3.1.5 VIRTUÁLNÍ OPERÁTOŘI (MVNO)
B70: Graf č. 26: | D70: ='Graf 26'!B11 -> Průměrná maloobchodní cena za skutečně provolanou minutu u virtuálních operátorů (MVNO)
B72: 3.2 PRŮMĚRNÁ MALOOBCHODNÍ CENA ZA SMS
B73: 3.2.1 CELKEM TRH
B74: Graf č. 27: | D74: ='Graf 27'!B11 -> Průměrná maloobchodní cena za SMS (celkem)
B76: 3.2.2 REZIDENTI
B77: Graf č. 28: | D77: ='Graf 28'!B11 -> Průměrná maloobchodní cena za SMS (rezidenti)
B79: 3.2.3 PODNIKATELÉ
B80: Graf č. 29: | D80: ='Graf 29'!B11 -> Průměrná maloobchodní cena za SMS (podnikatelé)
B82: 3.2.4 SÍŤOVÍ OPERÁTOŘI (MNO)
B83: Graf č. 30: | D83: ='Graf 30'!B11 -> Průměrná maloobchodní cena za SMS u tří síťových operátorů (MNO)
B85: 3.2.5 VIRTUÁLNÍ OPERÁTOŘI (MVNO)
B86: Graf č. 31: | D86: ='Graf 31'!B11 -> Průměrná maloobchodní cena za SMS u virtuálních operátorů (MVNO)
B88: 3.3 PRŮMĚRNÁ MALOOBCHODNÍ CENA ZA 1 MB DAT
B89: 3.3.1 CELKEM TRH
B90: Graf č. 32: | D90: ='Graf 32'!B11 -> Průměrná maloobchodní cena za 1 GB dat (celkem)
B92: 3.3.2 REZIDENTI
B93: Graf č. 33: | D93: ='Graf 33'!B11 -> Průměrná maloobchodní cena za 1 GB dat (rezidenti)
B95: 3.3.3 PODNIKATELÉ
B96: Graf č. 34: | D96: ='Graf 34'!B11 -> Průměrná maloobchodní cena za 1 GB dat (podnikatelé)
B98: 3.3.4 SÍŤOVÍ OPERÁTOŘI (MNO)
B99: Graf č. 35: | D99: ='Graf 35'!B11 -> Průměrná maloobchodní cena za 1 GB dat u tří síťových operátorů (MNO)
B101: 3.3.5 VIRTUÁLNÍ OPERÁTOŘI (MVNO)
B102: Graf č. 36: | D102: ='Graf 36'!B11 -> Průměrná maloobchodní cena za 1 GB dat u virtuálních operátorů (MVNO)
B104: 3.4 VÝVOJ CENY NEJLEVNĚJŠÍHO TARIFU S NEOMEZENÝM VOLÁNÍM A SMS S 10 GB A NEOMEZENÝM DATOVÝM LIMITEM V ČR
B105: Graf č. 37: | D105: ='Graf 37'!B10 -> Nejlevnější tarif v ČR s neomezeným voláním a SMS s minimálně 12 GB datovým limitem
B106: Graf č. 38: | D106: ='Graf 38'!B10 -> Nejlevnější tarif v ČR s neomezeným voláním, SMS a datovým limitem
B108: 3.5 POZICE ČR V MEZINÁRODNÍM CENOVÉM SROVNÁNÍ MOBILNÍCH SLUŽEB PODLE SPOTŘEBNÍCH KOŠŮ OECD ZA ROKY 2021-2025
B109: Graf č. 39: | D109: ='Graf 39'!B13 -> Pozice operátora z ČR ve srovnání OECD Mobile Voice Price Benchmarking (TechInsights) - vždy ke konci roku
B111: 3.6 SROVNÁNÍ CEN U VYBRANÝCH KOŠŮ DLE METODIKY OECD MOBILE VOICE PRICE BENCHMARKING (TECHINSIGHTS)
B112: Graf č. 40: | D112: ='Graf 40'!F5 -> Neomezené volání/SMS + 2 GB datový limit - data za 4. čtvrtletí 2025
B113: Graf č. 41: | D113: ='Graf 41'!F5 -> Neomezené volání/SMS + 10 GB datový limit - data za 4. čtvrtletí 2025
B114: Graf č. 42: | D114: ='Graf 42'!F5 -> Neomezené volání/SMS + 30 GB datový limit - data za 4. čtvrtletí 2025
B115: Graf č. 43: | D115: ='Graf 43'!F5 -> Neomezené volání/SMS/neomezený objem dat - data za 4. čtvrtletí 2025
B117: 3.7 MEZINÁRODNÍ SROVNÁNÍ CEN MOBILNÍCH SLUŽEB ZE STRANY EK
B118: Graf č. 44: | D118: ='Graf 44'!B2 -> Cenové srovnání mobilních služeb v zemích EU
B120: 3.8 ROAMINGOVÉ SLUŽBY
B121: Graf č. 45: | D121: ='Grafy 45-47'!B9 -> Průměrná cena za minutu volání v zemích mimo EU v Eurech
B122: Graf č. 46: | D122: ='Grafy 45-47'!K9 -> Průměrná cena za SMS v zemích mimo EU v Eurech
B123: Graf č. 47: | D123: ='Grafy 45-47'!B24 -> Průměrná cena za 1 GB dat v zemích mimo EU v Eurech
B125: 4 Služby na vybraných velkoobchodních trzích
B127: 4.1 RELEVANTNÍ TRHY SLUŽEB ELEKTRONICKÝCH KOMUNIKACÍ
B128: 4.1.1 VELKOOBCHODNÍ SLUŽBY UKONČENÍ VOLÁNÍ V JEDNOTLIVÝCH VEŘEJNÝCH TELEFONNÍCH SÍTÍCH POSKYTOVANÝCH V PEVNÉM MÍSTĚ – BÝVALÝ TRH Č. 1
B129: Graf č. 48: | D129: ='Graf 48'!B9 -> Vývoj cen za velkoobchodní služby ukončení volání v jednotlivých veřejných telefonních sítích poskytovaných v pevném místě v Kč za minutu v České republice
B131: 4.1.2 VELKOOBCHODNÍ SLUŽBY UKONČENÍ HLASOVÉHO VOLÁNÍ V JEDNOTLIVÝCH MOBILNÍCH SÍTÍCH – BÝVALÝ TRH Č. 2
B132: Graf č. 49: | D132: ='Graf 49'!B11 -> Vývoj cen za terminaci volání - mobilní sítě
B133: Graf č. 50: | D133: ='Graf 50'!B11 -> Vývoj průměrného velkoobchodního výnosu operátorů za ukončení volání za období 2021–2025
B135: 4.1.3 TRH Č. 1 VELKOOBCHODNÍ SLUŽBY S MÍSTNÍM PŘÍSTUPEM POSKYTOVANÝM V PEVNÉM MÍSTĚ
B136: Graf č. 51: | D136: ='Graf 51-54'!B2 -> Vývoj jednorázových cen pro služby zřízení plného a sdíleného zpřístupnění účastnického kovového vedení
B137: Graf č. 52: | D137: ='Graf 51-54'!B18 -> Vývoj měsíčních cen pro služby pronájem plného a sdíleného zpřístupnění účastnického kovového vedení
B138: Graf č. 53: | D138: ='Graf 51-54'!B35 -> Vývoj jednorázových cen pro služby poskytnutí kolokačního prostoru a podrobného místního šetření
B139: Graf č. 54: | D139: ='Graf 51-54'!B50 -> Vývoj měsíčních cen pro službu pronájem kolokačního prostoru
...

Sheet Graf 1
B2: Porovnání nejlevnějších tarifů hlasové komunikační služby společnosti O2 s neomezeným voláním a s nejnižší cenou s využitím zvláštních cen
B4: parametr | C4: 2021 | D4: 2022 | E4: 2023 | F4: 2024 | G4: 2025
B5: služby v pevném místě | C5: 349 | D5: 349 | E5: 349 | F5: 349 | G5: 349
B6: služby v pevném místě se slevou | C6: 149 | D6: 149 | E6: 149 | F6: 149 | G6: 149
B7: mobilní služby | C7: 349 | D7: 549 | E7: 599 | F7: 599 | G7: 599
B8: mobilní služby se slevou | C8: 149 | D8: 349 | E8: 399 | F8: 399 | G8: 399
B10: =B2 -> Porovnání nejlevnějších tarifů hlasové komunikační služby společnosti O2 s neomezeným voláním a s nejnižší cenou s využitím zvláštních cen

Sheet Graf 2
B2: Porovnání nejlevnějších tarifů hlasové komunikační služby v pevném místě s využitím zvláštních cen – srovnání operátorů
B4: poskytovatel | C4: O2 | E4: Vodafone
B5: parametr | C5: 2024 | D5: 2025 | E5: 2024 | F5: 2025
B6: cena tarifu | C6: 349 | D6: 349 | E6: 25 | F6: 25
B7: cena tarifu se slevou | C7: 149 | D7: 149 | E7: 0 | F7: 0
B9: =B2 -> Porovnání nejlevnějších tarifů hlasové komunikační služby v pevném místě s využitím zvláštních cen – srovnání operátorů

Sheet Graf 3
B2: Porovnání nejlevnějších tarifů hlasové komunikační služby v pevném místě s neomezenými minutami s využitím zvláštních cen – srovnání operátorů
B4: poskytovatel | C4: O2 | E4: Vodafone
B5: parametr | C5: 2024 | D5: 2025 | E5: 2024 | F5: 2025
B6: cena tarifu | C6: 349 | D6: 349 | E6: 199 | F6: 199
B7: cena tarifu se slevou | C7: 149 | D7: 149 | E7: 0 | F7: 0
B9: =B2 -> Porovnání nejlevnějších tarifů hlasové komunikační služby v pevném místě s neomezenými minutami s využitím zvláštních cen – srovnání operátorů

Sheet Graf 4
B2: Porovnání nejlevnějších tarifů hlasové komunikační služby v mobilní síti s využitím zvláštních cen – srovnání operátorů
B4: poskytovatel | C4: O2 | E4: PODA | G4: T-Mobile | I4: Vodafone
B5: parametr | C5: 2024 | D5: 2025 | E5: 2024 | F5: 2025 | G5: 2024 | H5: 2025 | I5: 2024 | J5: 2025
B6: cena tarifu | C6: 399 | D6: 399 | E6: 50 | F6: 50 | G6: 265 | H6: 265 | I6: 325.91 | J6: 499
B7: cena tarifu se slevou | C7: 199 | D7: 199 | E7: 0 | F7: 0 | G7: 65 | H7: 65 | I7: 125.91 | J7: 299
B9: =B2 -> Porovnání nejlevnějších tarifů hlasové komunikační služby v mobilní síti s využitím zvláštních cen – srovnání operátorů

Sheet Graf 5
B2: Porovnání nejlevnějších tarifů hlasové komunikační služby v mobilní síti s neomezenými jednotkami s využitím zvláštních cen – srovnání operátorů
B4: poskytovatel | C4: O2 | E4: PODA | G4: T-Mobile | I4: Vodafone
B5: parametr | C5: 2024 | D5: 2025 | E5: 2024 | F5: 2025 | G5: 2024 | H5: 2025 | I5: 2024 | J5: 2025
B6: cena tarifu | C6: 599 | D6: 599 | E6: 320 | F6: 320 | G6: 495 | H6: 495 | I6: 567 | J6: 499
B7: cena tarifu se slevou | C7: 399 | D7: 399 | E7: 120 | F7: 120 | G7: 295 | H7: 295 | I7: 367 | J7: 299
B9: =B2 -> Porovnání nejlevnějších tarifů hlasové komunikační služby v mobilní síti s neomezenými jednotkami s využitím zvláštních cen – srovnání operátorů

Sheet Graf 6
B2: Porovnání nejlevnějších tarifů přiměřeného přístupu k internetu v pevném místě s využitím zvláštních cen – srovnání operátorů
B4: poskytovatel | C4: O2 | E4: PODA | G4: T-Mobile | I4: Vodafone
B5: parametr | C5: 2024 | D5: 2025 | E5: 2024 | F5: 2025 | G5: 2024 | H5: 2025 | I5: 2024 | J5: 2025
B6: cena tarifu | C6: 299 | D6: 299 | E6: 280 | F6: 280 | G6: 399 | H6: 399 | I6: 399 | J6: 399
B7: cena tarifu se slevou | C7: 99 | D7: 99 | E7: 80 | F7: 80 | G7: 199 | H7: 199 | I7: 199 | J7: 199
B9: =B2 -> Porovnání nejlevnějších tarifů přiměřeného přístupu k internetu v pevném místě s využitím zvláštních cen – srovnání operátorů

Sheet Graf 7
B2: Porovnání nejlevnějších tarifů přiměřeného přístupu k mobilnímu internetu s využitím zvláštních cen – srovnání operátorů
B4: poskytovatel | C4: O2 | E4: T-Mobile | G4: Vodafone
B5: rok | C5: 2024 | D5: 2025 | E5: 2024 | F5: 2025 | G5: 2024 | H5: 2025
B6: cena tarifu | C6: 399 | D6: 399 | E6: 265 | F6: 265 | G6: 217.46 | H6: 217.46
B7: cena tarifu se slevou | C7: 199 | D7: 199 | E7: 65 | F7: 65 | G7: 17.46 | H7: 17.46
B9: =B2 -> Porovnání nejlevnějších tarifů přiměřeného přístupu k mobilnímu internetu s využitím zvláštních cen – srovnání operátorů

Sheet Graf 8
B2: Ceny za přiměřený přístup k internetu v pevném místě u nejlevnějšího tarifu
B4: poskytovatel | C4: 2022 | D4: 2023 | E4: 2024 | F4: 2025
B5: O2 | C5: 399 | D5: 449 | E5: 599 | F5: 599
B6: Vodafone | C6: 359 | D6: 399 | E6: 399 | F6: 399
B7: T-Mobile | C7: 399 | D7: 449 | E7: 449 | F7: 449
B8: STARNET | C8: 345 | D8: 345 | E8: 345 | F8: 345
B9: PODA | C9: 280 | D9: 280 | E9: 280 | F9: 330
B11: =B2 -> Ceny za přiměřený přístup k internetu v pevném místě u nejlevnějšího tarifu
J13: 2025 | M13: meziroční změna
K14: cena za rychl. ≥ 10/1 Mbit/s (download/upload) | L14: 599 | M14: 0
K15: hranice dostupnosti služby (max. podíl za 10 let) | L15: 0.015 | M15: ↘
K16: podíl ceny na průměrných mzdách | L16: 0.013 | M16: ↘

Sheet Graf 9
B2: Vývoj nejnižší ceny za přístup k hlasové komunikační službě v pevném místě
B4: poskytovatel | C4: 2021 | D4: 2022 | E4: 2023 | F4: 2024 | G4: 2025
B5: O2 | C5: 349 | D5: 349 | E5: 349 | F5: 349 | G5: 349
B6: Vodafone | C6: 25 | D6: 25 | E6: 25 | F6: 25 | G6: 25
B7: FAYN Telecommunications | C7: 29 | D7: 29 | E7: 99 | F7: 99 | G7: 99
B9: =B2 -> Vývoj nejnižší ceny za přístup k hlasové komunikační službě v pevném místě
H11: 2025 | J11: cena v Kč | K11: meziroční změna
I12: O2 | J12: =G5 -> 349 | K12: 0
I13: Vodafone | J13: =G6 -> 25
I14: FAYN Telecommunications | J14: =G7 -> 99

Sheet Graf 10
B2: Vývoj ceny za přístup k hlasové komunikační službě v pevném místě společnosti O2 v porovnání s indexem vývoje inflace a průměrné mzdy
B4: parametr | C4: 2021 | D4: 2022 | E4: 2023 | F4: 2024 | G4: 2025
B5: index spotřebitelských cen (2021=100) | C5: 100 | D5: 115.75859 | E5: 123.72171 | F5: 127.40989 | G5: 130.0922
B6: index průměrné měsíční mzdy | C6: 100 | D6: 104.3 | E6: 111.8096 | F6: 119.18903 | G6: 127.05551
B7: index hodnocené ceny | C7: 100 | D7: 100 | E7: 100 | F7: 100 | G7: 100
B9: =B2 -> Vývoj ceny za přístup k hlasové komunikační službě v pevném místě společnosti O2 v porovnání s indexem vývoje inflace a průměrné mzdy

Sheet Graf 11
B2: Vývoj ceny za přístup k hlasové komunikační službě v pevném místě společnosti O2 v porovnání s korigovaným indexem podle inflace a průměrné mzdy
B4: parametr | C4: 2021 | D4: 2022 | E4: 2023 | F4: 2024 | G4: 2025
B5: korigovaný index ceny podle CPI | C5: 100 | D5: 86.386676 | E5: 80.826558 | F5: 78.486842 | G5: 76.868557
B6: korigovaný index ceny podle průměrné mzdy | C6: 100 | D6: 95.877277 | E6: 89.437758 | F6: 83.900336 | G6: 78.705756
B7: index hodnocené ceny | C7: 100 | D7: 100 | E7: 100 | F7: 100 | G7: 100
B8: CPI Consumer Price Index, index spotřebitelských cen, který měří, jak se v čase mění ceny zboží a služeb, které běžně nakupují domácnosti.
B10: =B2 -> Vývoj ceny za přístup k hlasové komunikační službě v pevném místě společnosti O2 v porovnání s korigovaným indexem podle inflace a průměrné mzdy

Sheet Graf 12
B2: Vývoj cen základních neomezených tarifů určených pro hlasovou komunikační službu v pevném místě - srovnání operátorů
B4: poskytovatel | C4: 2021 | D4: 2022 | E4: 2023 | F4: 2024 | G4: 2025
B5: O2 | C5: 349 | D5: 349 | E5: 349 | F5: 349 | G5: 349
B6: Vodafone | C6: 199 | D6: 199 | E6: 199 | F6: 199 | G6: 199
B7: FAYN Telecommunications | C7: 249 | D7: 249 | E7: 249 | F7: 249 | G7: 249
B9: =B2 -> Vývoj cen základních neomezených tarifů určených pro hlasovou komunikační službu v pevném místě - srovnání operátorů
I11: 2025 | K11: cena v Kč | L11: meziroční změna
J12: O2 | K12: =G5 -> 349 | L12: 0
J13: Vodafone | K13: =G6 -> 199
J14: FAYN Telecommunications | K14: =G7 -> 249

Sheet Graf 13
B2: Vývoj cen hlasových služeb v pevných sítích za trh v členění fyzické osoby, právnické osoby
E4: 2016 | F4: 2017 | G4: 2018 | H4: 2019 | I4: 2021 | J4: 2022 | K4: 2023 | L4: 2024 | M4: 2025
B5: průměrná cena právnické osoby (Kč/min.) | E5: 1.28 | F5: 1.27 | G5: 1.13 | H5: 0.98 | I5: 1.0666923 | J5: 0.93286427 | K5: 0.95984357 | L5: 0.73313408 | M5: 0.71473591
B6: průměrná cena fyzické osoby (Kč/min.) | E6: 0.35 | F6: 0.16 | G6: 0.19 | H6: 0.33 | I6: 0.23501398 | J6: 0.20746591 | K6: 0.24203656 | L6: 0.26072844 | M6: 0.27652233
B7: průměrná cena celkem (Kč/min.) | E7: 0.81 | F7: 0.67 | G7: 0.64 | H7: 0.61 | I7: 0.57238207 | J7: 0.52161362 | K7: 0.53692825 | L7: 0.53661837 | M7: 0.5430927
B9: Průměrné ceny za trh v členění fyzické osoby, právnické osoby
N10: 2025 | P10: právnické osoby | Q10: fyzické osoby | R10: celkem
O11: průměrná cena (v Kč/min.) | P11: 0.71473591 | Q11: 0.27652233 | R11: 0.5430927
O12: meziroční změna | P12: ↘ 2,7 % | Q12: ↗ 7,7 % | R12: 0
O13: rozdíl proti ceně celkem | P13: ↗ 31,5 % | Q13: ↘ 48,1 %

Sheet Graf 14
B2: Vývoj cen za službu internet v pevné síti – O2
B4: rychlost | C4: 44561 | D4: 44926 | E4: 45291 | F4: 45657 | G4: 46022
B5: 20 Mbit/s | C5: 399 | D5: 449 | E5: 449 | F5: 599 | G5: 599
B6: 100 Mbit/s | C6: 599 | D6: 649 | E6: 649 | F6: 599 | G6: 599
B7: 1000 Mbit/s | C7: 799 | D7: 849 | E7: 849 | F7: 699 | G7: 599
B8: v Kč s DPH
B9: =B2 -> Vývoj cen za službu internet v pevné síti – O2
I11: 2025 | K11: průměrná cena v Kč | L11: meziroční změna
J12: rychlost 20 Mbit/s | K12: 499 | L12: 0
J13: rychlost 100 Mbit/s | K13: 561 | L13: 0
J14: rychlost 1000 Mbit/s | K14: 671 | L14: ↘ 3,73 %

Sheet Graf 15
B2: Vývoj cen za službu internet v pevné síti – T-Mobile
B4: rychlost | C4: 44561 | D4: 44926 | E4: 45291 | F4: 45657 | G4: 46022
B5: 20 Mbit/s | C5: 399 | D5: 399 | E5: 449 | F5: 449 | G5: 449
B6: 100 Mbit/s | C6: 599 | D6: 599 | E6: 649 | F6: 649 | G6: 649
B7: 1000 Mbit/s | C7: 799 | D7: 599 | E7: 649 | F7: 649 | G7: 649
B8: v Kč s DPH
B9: =B2 -> Vývoj cen za službu internet v pevné síti – T-Mobile

Sheet Graf 16
B2: Vývoj cen za službu internet v pevné síti – Vodafone
B4: Rychlost | C4: 44561 | D4: 44926 | E4: 45291 | F4: 45657 | G4: 46022
B5: 20 Mbit/s | C5: 399 | D5: 399 | E5: 449 | F5: 449 | G5: 449
B6: 100 Mbit/s | C6: 599 | D6: 599 | E6: 649 | F6: 649 | G6: 649
B7: 1000 Mbit/s | C7: 899 | D7: 899 | E7: 749 | F7: 749 | G7: 749
B8: v Kč s DPH
B9: =B2 -> Vývoj cen za službu internet v pevné síti – Vodafone

Sheet Graf 17
B2: Vývoj cen za službu internet v pevné síti – STARNET
B4: Rychlost | C4: 44561 | D4: 44926 | E4: 45291 | F4: 45657 | G4: 46022
B5: 50 Mbit/s | C5: 345 | D5: 345 | E5: 345 | F5: 345 | G5: 345
B6: 100 Mbit/s | C6: 345 | D6: 345 | E6: 345 | F6: 345 | G6: 345
B7: 1000 Mbit/s | C7: 585 | D7: 585 | E7: 585 | F7: 585 | G7: 585
B8: v Kč s DPH
B9: =B2 -> Vývoj cen za službu internet v pevné síti – STARNET

Sheet Graf 18
B2: Srovnání nabídek služby fixní LTE/5G
B4: Poskytovatel - LTE tarif | C4: 2021 | D4: 2022 | E4: 2023 | F4: 2024 | G4: 2025
B5: O2 -100 Mbit/s bez limitu | C5: 599 | D5: 649 | E5: 649 | F5: 599 | G5: 599
B6: Vodafone - 100 Mbit/s bez limitu | C6: 599 | D6: 599 | E6: 399 | F6: 399 | G6: 399
B7: T-Mobile - 100 Mbit/s bez limitu | C7: 599 | D7: 599 | E7: 599 | F7: 649 | G7: 649
B8: v Kč s DPH
B9: =B2 -> Srovnání nabídek služby fixní LTE/5G
I11: 2025 | K11: cena v Kč | L11: meziroční změna
J12: O2 100 Mbit/s | K12: 599 | L12: 0
J13: Vodafone 100 Mbit/s | K13: 399 | L13: 0
J14: T-Mobile 100 Mbit/s | K14: 649 | L14: 0

Sheet Graf 19
B2: Mezinárodní srovnání přístupu k internetu v pevných sítích
B4: Economy | C4: CZK | D4: PPP CZK | F4: Průměr EU v CZK | G4: Průměr EU PPP CZK | I4: =B2 -> Mezinárodní srovnání přístupu k internetu v pevných sítích
B5: Romania | C5: 151.17 | D5: 338.99 | F5: 687.07 | G5: 962.84
B6: Croatia | C6: 185.85531 | D6: 347.60092 | F6: 687.06934 | G6: 962.83519
B7: Lithuania | C7: 223.22703 | D7: 390.20887 | F7: 687.06934 | G7: 962.83519
B8: Bulgaria | C8: 331.01345 | D8: 790.54943 | F8: 687.06934 | G8: 962.83519
B9: Portugal | C9: 376.22533 | D9: 617.04904 | F9: 687.06934 | G9: 962.83519
B10: Slovakia | C10: 385.25474 | D10: 648.5663 | F10: 687.06934 | G10: 962.83519
B11: Poland | C11: 387.72569 | D11: 747.84203 | F11: 687.06934 | G11: 962.83519
B12: Hungary | C12: 387.89746 | D12: 771.21418 | F12: 687.06934 | G12: 962.83519
B13: Latvia | C13: 438.92955 | D13: 765.44686 | F13: 687.06934 | G13: 962.83519
B14: Estonia | C14: 476.55208 | D14: 679.73664 | F14: 687.06934 | G14: 962.83519
B15: Spain | C15: 500.37969 | D15: 785.1673 | F15: 687.06934 | G15: 962.83519
B16: Czech Republic | C16: 599 | D16: 964.98926 | F16: 687.06934 | G16: 962.83519
... B19: Austria | C19: 749.94249 | D19: 947.80961 | F19: 687.06934 | G19: 962.83519
B20: Italy | C20: 749.94249 | D20: 1096.8463 | F20: 687.06934 | G20: 962.83519 | I20: 2025 | K20: cena v Kč | L20: meziroční změna
B21: Germany | C21: 826.19082 | D21: 1084.6619 | F21: 687.06934 | G21: 962.83519 | J21: cena spotřebního koše v ČR | K21: 599 | L21: 0
B22: France | C22: 852.5266 | D22: 1093.3331 | F22: 687.06934 | G22: 962.83519
B23: Ireland | C23: 877.60828 | D23: 906.55775 | F23: 687.06934 | G23: 962.83519 | J23: průměrná cena spotřebního koše v EU | K23: 687.07 | L23: ↗ 0,78 %
B24: Slovenia | C24: 975.67769 | D24: 1542.7935 | F24: 687.06934 | G24: 962.83519
B25: Netherlands | C25: 990.7267 | D25: 1218.1835 | F25: 687.06934 | G25: 962.83519
B26: Belgium | C26: 1003.0167 | D26: 1227.6291 | F26: 687.06934 | G26: 962.83519
B27: Denmark | C27: 1005.2293 | D27: 1002.5242 | F27: 687.06934 | G27: 962.83519
B28: Finland | C28: 1015.0559 | D28: 1172.6928 | F28: 687.06934 | G28: 962.83519
B29: Cyprus | C29: 1040.8901 | D29: 1599.9696 | F29: 687.06934 | G29: 962.83519
B30: Luxembourg | C30: 1304.2478 | D30: 1400.2886 | F30: 687.06934 | G30: 962.83519
B31: Sweden | C31: 1314.7705 | D31: 1601.712 | F31: 687.06934 | G31: 962.83519

Sheet Graf 20
B2: Cenové srovnání pevných služeb v zemích EU
K25: 2025 | L25: ceny v ČR vs. průměr v EU | M25: Single Play | N25: Double Play | O25: Triple Play
L26: ≥30 - <100 Mbit/s | M26: ↘ 23 % | N26: ↘ 13 % | O26: ↘ 5 %
L27: ≥100 - <200 Mbit/s | M27: ↘ 26 % | N27: ↘ 16 % | O27: ↘ 8 %
L28: ≥200 - <999 Mbit/s | M28: ↘ 23 % | N28: ↘ 22 % | O28: ↘ 13 %
L29: ≥1000 Mbit/s | M29: ↘ 35 % | N29: ↘ 24 % | O29: ↘ 28 %
B30: 1 (tmavě zelená) – skupina zemí s nízkými cenami, 2 (světle zelená) – skupina zemí s relativně nižšími cenami
B31: 3 (žlutá) – skupina zemí s relativně vyššími cenami, 4 (červená) – skupina zemí s vysokými cenami
B33: Zdroj: Mobile and fixed broadband price in Europe in 2024: Insights into the European Broadband Market | Shaping Europe’s digital future

Sheet Graf 21
B2: Průměrná maloobchodní cena operátora za 1 min. volání podle směru volání za rok 2025
B4: Směr volání | C4: Průměrný výnos operátora za 1 min. volání v Kč, bez DPH
B5: do vlastní mobilní sítě | C5: 0.70842612
B6: do ostatních mobilních sítí | C6: 0.61020882
B7: do pevných sítí | C7: 1.1567027
B8: mezinárodní volání | C8: 5.3108304
B9: ostatní | C9: 2.0052056
B10: celkem | C10: 0.71495591
B12: =B2 -> Průměrná maloobchodní cena operátora za 1 min. volání podle směru volání za rok 2025

Sheet Graf 22
B2: Vývoj hlasových volání v mobilní síti
B4: ukazatele o hlasovém volání v mobilní síti | C4: jednotka | D4: 2021 | E4: 2022 | F4: 2023 | G4: 2024 | H4: 2025
B5: počet reálných minut celkem | C5: počet min. v tisících | D5: 26969437 | E5: 26312385 | F5: 26601215 | G5: 27312161 | H5: 27330145
B6: průměrná maloobchodní cena za provolanou minutu | C6: Kč, bez DPH | D6: 0.73711765 | E6: 0.73869174 | F6: 0.71900582 | G6: 0.69545746 | H6: 0.71495591
B8: Rezidenti + podnikatelé
B9: Vývoj průměrné maloobchodní ceny za skutečně provolanou minutu a počtu skutečně provolaných minut
I19: 2025 | K19: průměrná cena v Kč/min. | L19: počet minut v mld.
J20: maloobchodní provolané minuty (rezidenti + podnikatelé) | K20: =H6 -> 0.71495591 | L20: =H5/1000000 -> 27.330145
J22: meziroční změna | K22: ↗ 1,4 % | L22: ↗ 0,1 %

Sheet Graf 23
B2: Vývoj hlasových volání v mobilní síti
B4: ukazatele o hlasovém volání v mobilní síti | C4: jednotka | D4: 2021 | E4: 2022 | F4: 2023 | G4: 2024 | H4: 2025
B5: počet reálných minut celkem | C5: počet min. v tisících | D5: 15156247 | E5: 14754875 | F5: 15555798 | G5: 16125019 | H5: 16277530
B6: průměrná maloobchodní cena za provolanou minutu | C6: Kč, bez DPH | D6: 0.82961212 | E6: 0.81193331 | F6: 0.71948827 | G6: 0.68228808 | H6: 0.68293562
B8: Rezidenti
B9: Vývoj průměrné maloobchodní ceny za skutečně provolanou minutu a počtu skutečně provolaných minut (rezidenti)
I17: 2025 | K17: průměrná cena v Kč/min. | L17: počet minut v mld.
J18: maloobchodní provolané minuty (rezidenti) | K18: =H6 -> 0.68293562 | L18: =H5/1000000 -> 16.27753
J20: meziroční změna | K20: 0 | L20: ↗ 0,9 %

Sheet Graf 24
B2: Vývoj hlasových volání v mobilní síti
B4: ukazatele o hlasovém volání v mobilní síti | C4: jednotka | D4: 2015 | E4: 2016 | F4: 2017 | G4: 2018 | H4: 2021 | I4: 2022 | J4: 2023 | K4: 2024 | L4: 2025
B5: počet reálných minut celkem | C5: počet min. v tisících | D5: 9084260.5 | E5: 9413271.7 | F5: 9736848.5 | G5: 9870409.4 | H5: 11813190 | I5: 11557510 | J5: 11045418 | K5: 11187142 | L5: 11052616
B6: průměrná maloobchodní cena za provolanou minutu | C6: Kč, bez DPH | D6: 0.86285727 | E6: 0.77943958 | F6: 0.75559967 | G6: 0.767531 | H6: 0.61844784 | I6: 0.64518801 | J6: 0.71832637 | K6: 0.71443964 | L6: 0.76211319
B8: Podnikatelé | G8: pův.:
B9: Vývoj průměrné maloobchodní ceny za skutečně provolanou minutu a počtu skutečně provolaných minut u mobilních operátorů (podnikatelé)
M18: 2025 | O18: průměrná cena v Kč/min. | P18: počet minut v mld.
N19: maloobchodní provolané minuty (podnikatelé) | O19: =L6 -> 0.76211319 | P19: =L5/1000000 -> 11.052616
N21: meziroční změna | O21: ↗ 7,0 % | P21: ↘ 1,3 %

Sheet Graf 25
B2: Průměrná maloobchodní cena za skutečně provolanou minutu u tří síťových operátorů (MNO)
C5: jednotka | D5: 2021 | E5: 2022 | F5: 2023 | G5: 2024 | H5: 2025
B6: průměrná maloobchodní cena tří síťových operátorů | C6: Kč/min., bez DPH | D6: 0.73412964 | E6: 0.732038 | F6: 0.71326638 | G6: 0.6879439 | H6: 0.71083237
B8: =B2 -> Průměrná maloobchodní cena za skutečně provolanou minutu u tří síťových operátorů (MNO)
J9: 2025 | L9: v Kč/min. bez DPH | M9: meziroční změna
K10: průměrná maloobchodní cena | L10: 0.71083237 | M10: ↗ 2,9 %

Sheet Graf 26
B2: Průměrná maloobchodní cena za skutečně provolanou minutu u virtuálních operátorů (MVNO)
B4: rok | C4: průměrná maloobchodní cena
B5: 2021 | C5: 0.78204563
B6: 2022 | C6: 0.84868553
B7: 2023 | C7: 0.98433702
B8: 2024 | C8: 1.072725
B9: 2025 | C9: 0.92557388
B10: v Kč/ min., bez DPH
B11: =B2 -> Průměrná maloobchodní cena za skutečně provolanou minutu u virtuálních operátorů (MVNO)
I12: 2025 | K12: v Kč/min. bez DPH | L12: meziroční změna
J13: průměrná maloobchodní cena | K13: =C9 -> 0.92557388 | L13: ↘ 13,1 %

Sheet Graf 27
B2: Průměrná maloobchodní cena za SMS (celkem)
B4: rok | C4: průměrná maloobchodní cena
B5: 2021 | C5: 0.55193453
B6: 2022 | C6: 0.58052235
B7: 2023 | C7: 0.62899397
B8: 2024 | C8: 0.69600487
B9: 2025 | C9: 0.79518542
B10: v Kč/SMS, bez DPH
B11: =B2 -> Průměrná maloobchodní cena za SMS (celkem)
F13: 2025 | H13: v Kč/SMS bez DPH | I13: meziroční změna
G14: průměrná maloobchodní cena | H14: =C9 -> 0.79518542 | I14: ↗ 14,3 %

Sheet Graf 28
B2: Průměrná maloobchodní cena za SMS (rezidenti)
B4: rok | C4: průměrná maloobchodní cena
B5: 2021 | C5: 0.69125376
B6: 2022 | C6: 0.7272167
B7: 2023 | C7: 0.78033822
B8: 2024 | C8: 0.87656296
B9: 2025 | C9: 1.0052336
B10: v Kč/SMS, bez DPH
B11: =B2 -> Průměrná maloobchodní cena za SMS (rezidenti)
F13: 2025 | H13: v Kč/SMS bez DPH | I13: meziroční změna
G14: průměrná maloobchodní cena | H14: =C9 -> 1.0052336 | I14: ↗ 14,8 %

Sheet Graf 29
B2: Průměrná maloobchodní cena za SMS (podnikatelé)
B4: rok | C4: průměrná maloobchodní cena
B5: 2021 | C5: 0.32798957
B6: 2022 | C6: 0.33741998
B7: 2023 | C7: 0.37390449
B8: 2024 | C8: 0.40671346
B9: 2025 | C9: 0.46565679
B10: v Kč/SMS, bez DPH
B11: =B2 -> Průměrná maloobchodní cena za SMS (podnikatelé)
G13: 2025 | I13: v Kč/SMS bez DPH | J13: meziroční změna
H14: průměrná maloobchodní cena | I14: =C9 -> 0.46565679 | J14: ↗ 14,6 %

Sheet Graf 30
B2: Průměrná maloobchodní cena za SMS u tří síťových operátorů (MNO)
B4: rok | C4: průměrná maloobchodní cena
B5: 2021 | C5: 0.57358269
B6: 2022 | C6: 0.60338169
B7: 2023 | C7: 0.63003112
B8: 2024 | C8: 0.69975681
B9: 2025 | C9: 0.80231583
B10: v Kč/SMS, bez DPH
B11: =B2 -> Průměrná maloobchodní cena za SMS u tří síťových operátorů (MNO)
G13: 2025 | I13: v Kč/SMS bez DPH | J13: meziroční změna
H14: průměrná maloobchodní cena | I14: =C9 -> 0.80231583 | J14: ↗ 14,3 %

Sheet Graf 31
B2: Průměrná maloobchodní cena za SMS u virtuálních operátorů (MVNO)
B4: rok | C4: průměrná maloobchodní cena
B5: 2021 | C5: 0.27994143
B6: 2022 | C6: 0.26556189
B7: 2023 | C7: 0.59345572
B8: 2024 | C8: 0.55840117
B9: 2025 | C9: 0.53645919
B10: v Kč/SMS, bez DPH
B11: =B2 -> Průměrná maloobchodní cena za SMS u virtuálních operátorů (MVNO)
F13: 2025 | H13: v Kč/SMS bez DPH | I13: meziroční změna
G14: průměrná maloobchodní cena | H14: =C9 -> 0.53645919 | I14: ↘ 3,6 %

Sheet Graf 32
B2: Průměrná maloobchodní cena za 1 GB dat (celkem)
B4: rok | C4: průměrná maloobchodní cena
B5: 2021 | C5: 32.438687
B6: 2022 | C6: 21.800005
B7: 2023 | C7: 17.199935
B8: 2024 | C8: 14.905241
B9: 2025 | C9: 12.411744
B10: v Kč/GB, bez DPH
B11: =B2 -> Průměrná maloobchodní cena za 1 GB dat (celkem) | D11: (bez fixního LTE/5G)
F13: 2025 | H13: v Kč/GB bez DPH | I13: meziroční změna
G14: průměrná maloobchodní cena | H14: =C9 -> 12.411744 | I14: ↘ 16,8 %

Sheet Graf 33
B2: Průměrná maloobchodní cena za 1 GB dat (rezidenti)
B4: rok | C4: průměrná maloobchodní cena
B5: 2021 | C5: 30.731614
B6: 2022 | C6: 20.678248
B7: 2023 | C7: 15.938415
B8: 2024 | C8: 13.252584
B9: 2025 | C9: 11.244176
B10: v Kč/GB, bez DPH
B11: =B2 -> Průměrná maloobchodní cena za 1 GB dat (rezidenti) | E11: (bez fixního LTE/5G)
G13: 2025 | I13: v Kč/GB bez DPH | J13: meziroční změna
H14: průměrná maloobchodní cena | I14: =C9 -> 11.244176 | J14: ↘ 15,2 %

Sheet Graf 34
B2: Průměrná maloobchodní cena za 1 GB dat (podnikatelé) | E2: (bez fixního LTE/5G)
B4: rok | C4: průměrná maloobchodní cena
B5: 2021 | C5: 35.848584
B6: 2022 | C6: 24.305615
B7: 2023 | C7: 20.19231
B8: 2024 | C8: 19.041452
B9: 2025 | C9: 15.287518
B10: v Kč/GB, bez DPH
B11: =B2 -> Průměrná maloobchodní cena za 1 GB dat (podnikatelé) | E11: (bez fixního LTE/5G)
G13: 2025 | I13: v Kč/GB bez DPH | J13: meziroční změna
H14: průměrná maloobchodní cena | I14: =C9 -> 15.287518 | J14: ↘ 19,7 %

Sheet Graf 35
B2: Průměrná maloobchodní cena za 1 GB dat u tří síťových operátorů (MNO) | F2: (bez fixního LTE/5G)
B4: rok | C4: průměrná maloobchodní cena
B5: 2021 | C5: 31.477144
B6: 2022 | C6: 21.204972
B7: 2023 | C7: 17.059504
B8: 2024 | C8: 14.842617
B9: 2025 | C9: 12.333937
B10: v Kč/GB, bez DPH
B11: =B2 -> Průměrná maloobchodní cena za 1 GB dat u tří síťových operátorů (MNO) | F11: (bez fixního LTE/5G)
G14: 2025 | I14: v Kč/GB bez DPH | J14: meziroční změna
H15: průměrná maloobchodní cena | I15: =C9 -> 12.333937 | J15: ↘ 16,9 %

Sheet Graf 36
B2: Průměrná maloobchodní cena za 1 GB dat u virtuálních operátorů (MVNO) | F2: (bez fixního LTE/5G)
B4: rok | C4: průměrná maloobchodní cena
B5: 2021 | C5: 67.204673
B6: 2022 | C6: 44.697392
B7: 2023 | C7: 32.005635
B8: 2024 | C8: 20.716938
B9: 2025 | C9: 18.731005
B10: v Kč/GB, bez DPH
B11: =B2 -> Průměrná maloobchodní cena za 1 GB dat u virtuálních operátorů (MVNO) | F11: (bez fixního LTE/5G)
G13: 2025 | I13: v Kč/GB bez DPH | J13: meziroční změna
H14: průměrná maloobchodní cena | I14: =C9 -> 18.731005 | J14: ↘ 9,6 %

Sheet Graf 37
B2: Nejlevnější tarif v ČR s neomezeným voláním a SMS s minimálně 12 GB datovým limitem
B5: operátor/tarif | C5: 2021 VF/ Neomezený Basic | D5: 2022 VF/ Neomezený Basic | E5: 2023 VF/ Neomezený Basic | F5: 2024 VF/ Neomezený Basic | G5: 2025 VF/ sLimitem M (12 GB)
B6: ke konci roku: | C6: 2021 | D6: 2022 | E6: 2023 | F6: 2024 | G6: 2025
B7: neomezené volání a SMS | C7: 599 | D7: 599 | E7: 652.91 | F7: 652.91 | G7: 699
B8: v Kč s DPH, bez závazku na 24 měsíců
B10: =B2 -> Nejlevnější tarif v ČR s neomezeným voláním a SMS s minimálně 12 GB datovým limitem
I12: 2025 | K12: v Kč s DPH | L12: meziroční změna
J13: nejlevnější tarif v ČR s neomezeným voláním, SMS a 12 GB datovým limitem | K13: =G7 -> 699 | L13: ↗ 7,1 %

Sheet Graf 38
B2: Nejlevnější tarif v ČR s neomezeným voláním, SMS a datovým limitem
B4: operátor/tarif | C4: 2021 VF/ Neomezený Basic | D4: 2022 VF/ Neomezený Basic | E4: 2023 VF/ Neomezený Basic | F4: 2024 VF/ Neomezený Basic | G4: 2025 VF/ BezLimitu M
B5: ke konci roku: | C5: 2021 | D5: 2022 | E5: 2023 | F5: 2024 | G5: 2025
B6: neomezené volání, SMS a data | C6: 599 | D6: 599 | E6: 652.91 | F6: 652.91 | G6: 799
B7: v Kč s DPH, bez závazku na 24 měsíců
B10: =B2 -> Nejlevnější tarif v ČR s neomezeným voláním, SMS a datovým limitem
I11: 2025 | K11: v Kč s DPH | L11: meziroční změna
J12: nejlevnější tarif v ČR s neomezeným voláním, SMS a datovým limitem | K12: =G6 -> 799 | L12: ↗ 22,4 %

Sheet Graf 39
B2: Pozice mobilního operátora ČR ve srovnání s ostatními zeměmi OECD
B5: (ceny bez DPH, s PPP) | C5: 2021 | D5: 2022 | E5: 2023 | F5: 2024 | G5: 2025
B6: neomez. volání, SMS a data | C6: 20 | D6: 15 | E6: 17 | F6: 18 | G6: 21
B7: neomez. volání, SMS a 20 GB | C7: 30 | D7: 27 | E7: 27 | F7: 30 | G7: 29
B8: 900 hovorů a 80 SMS a 10 GB | C8: 33 | D8: 31 | E8: 32 | F8: 35 | G8: 35
B9: 300 hovorů a 80 SMS a 1 GB | C9: 35 | D9: 32 | E9: 34 | F9: 36 | G9: 35
B10: (dle jednotlivých spotřebních košů, pozice v cenách přepočítaných dle parity kupní síly)
B13: Pozice operátora z ČR ve srovnání OECD Mobile Voice Price Benchmarking (TechInsights) - vždy ke konci roku

Sheet Graf 40
B2: Srovnání OECD Mobile Voice Price Benchmarking (Teligen):
B3: (ceny v Kč bez DPH, přepočítané dle parity kupní síly)
F5: Neomezené volání/SMS + 2 GB datový limit - data za 4. čtvrtletí 2025
B6: země/operátor | C6: Kč/měs. | D6: pořadí | F6: (ceny v Kč bez DPH, přepočítané dle parity kupní síly)
B7: France, SFR Red (SFR) | C7: 72.320353 | D7: 1
B8: Germany, O2 | C8: 115.23072 | D8: 2
B9: Colombia, Movistar | C9: 135.35732 | D9: 3
B10: Spain, O2 (MoviStar) | C10: 140.20033 | D10: 4
B11: Iceland, Nova | C11: 143.78369 | D11: 5
B12: Sweden, Comviq (Tele 2) | C12: 158.86171 | D12: 6
B13: Canada, Chatr (Rogers) | C13: 160.72224 | D13: 7
B14: Poland, Plus | C14: 168.45062 | D14: 8
B15: Estonia, Telia | C15: 172.37098 | D15: 9
B16: UK, O2 | C16: 172.7783 | D16: 10
B17: USA, Ultra Mobile (T-Mobile) | C17: 187.51197 | D17: 11
B18: Lithuania, Tele2 | C18: 190.97134 | D18: 12
... B40: Costa Rica, Liberty | C40: 1838.4905 | D40: 34

Sheet Graf 41
B2: Srovnání OECD Mobile Voice Price Benchmarking (Teligen):
B3: (ceny v Kč bez DPH, přepočítané dle parity kupní síly)
F5: Neomezené volání/SMS + 10 GB datový limit - data za 4. čtvrtletí 2025
B6: země/operátor | C6: Kč/měs. | D6: pořadí | F6: (ceny v Kč bez DPH, přepočítané dle parity kupní síly)
B7: France, SFR | C7: 89.261315 | D7: 1
B8: Colombia, Movistar | C8: 135.35732 | D8: 2
B9: Spain, O2 (MoviStar) | C9: 140.20033 | D9: 3
B10: Germany, Telekom | C10: 143.98438 | D10: 4
B11: Estonia, Elisa | C11: 156.43741 | D11: 5
B12: Poland, Plus | C12: 168.45062 | D12: 6
B13: UK, O2 | C13: 172.7783 | D13: 7
B14: Austria, Hi! (Magenta) | C14: 194.93169 | D14: 8
B15: Mexico, MoviStar | C15: 200.84545 | D15: 9
B16: Slovenia, Telekom Slovenije | C16: 205.17055 | D16: 10
B17: Iceland, Siminn | C17: 209.7293 | D17: 11
B18: Sweden, Comviq (Tele 2) | C18: 232.9663 | D18: 12
... B40: Costa Rica, Liberty | C40: 1838.4905 | D40: 34

Sheet Graf 42
B2: Srovnání OECD Mobile Voice Price Benchmarking (Teligen):
B3: (ceny v Kč bez DPH, přepočítané dle parity kupní síly)
F5: Neomezené volání/SMS + 30 GB datový limit - data za 4. čtvrtletí 2025
B6: země/operátor | C6: Kč/měs. | D6: pořadí | F6: (ceny v Kč bez DPH, přepočítané dle parity kupní síly)
B7: Colombia, Movistar | C7: 135.35732 | D7: 1
B8: Spain, O2 (MoviStar) | C8: 140.20033 | D8: 2
B9: France, Sosh (Orange) | C9: 157.0487 | D9: 3
B10: Poland, Plus | C10: 168.45062 | D10: 4
B11: Austria, Hi! (Magenta) | C11: 194.93169 | D11: 5
B12: Slovenia, Telekom Slovenije | C12: 205.17055 | D12: 6
B13: Italy, Kena (TIM) | C13: 233.43466 | D13: 7
B14: UK, O2 | C14: 259.16745 | D14: 8
B15: Sweden, Comviq (Tele 2) | C15: 270.0186 | D15: 9
B16: Australia, Boost (Telstra) | C16: 277.36824 | D16: 10
B17: Switzerland, Yallo (Sunrise) | C17: 300.2805 | D17: 11
B18: Iceland, Nova | C18: 319.53451 | D18: 12
... B40: Costa Rica, Liberty | C40: 1838.4905 | D40: 34

Sheet Graf 43
B2: Srovnání OECD Mobile Voice Price Benchmarking (Teligen):
B3: (ceny v Kč bez DPH, přepočítané dle parity kupní síly)
F5: Neomezené volání/SMS/neomezený objem dat - data za 4. čtvrtletí 2025
B6: země/operátor | C6: Kč/měs. | D6: pořadí | F6: (ceny v Kč bez DPH, přepočítané dle parity kupní síly)
B7: Switzerland, Yallo (Sunrise) | C7: 300.2805 | D7: 1
B8: Finland, Telia | C8: 366.00887 | D8: 2
B9: Lithuania, Tele2 | C9: 379.91825 | D9: 3
B10: Netherlands, Odido | C10: 397.07264 | D10: 4
B11: Austria, Bob (A1 Telekom Austria) | C11: 407.88227 | D11: 5
B12: USA, Metro (T-Mobile) | C12: 426.9847 | D12: 6
B13: Ireland, Vodafone | C13: 430.03368 | D13: 7
B14: Latvia, LMT | C14: 438.62676 | D14: 8
B15: Portugal, MEO | C15: 451.43647 | D15: 9
B16: UK, EE | C16: 452.58316 | D16: 10
B17: Colombia, Claro | C17: 492.04035 | D17: 11
B18: Denmark, TDC / YouSee | C18: 506.01586 | D18: 12
... B32: Costa Rica, Liberty | C32: 1838.4905 | D32: 26

Sheet Graf 44
B2: Cenové srovnání mobilních služeb v zemích EU
B33: Zdroj: Mobile and Fixed Broad Band Prices 2024 Executive Summary, únor 2026
B35: 1 (tmavě zelená) – skupina zemí s nízkými cenami, 2 (světle zelená) – skupina zemí s relativně nižšími cenami
B36: 3 (žlutá) – skupina zemí s relativně vyššími cenami, 4 (červená) – skupina zemí s vysokými cenami

Sheet Grafy 45-47
B2: Průměrné maloobchodní roamingové ceny pro EEA roamingové zákazníky
B4: v EUR | E4: 2021 | F4: 2022 | G4: 2023 | H4: 2024 | I4: 2025
B5: MO RoW | D5: volání | E5: 0.21855848 | F5: 0.18395648 | G5: 0.45 | H5: 0.59 | I5: 0.55
D6: SMS | E6: 0.18946932 | F6: 0.11787691 | G6: 0.28 | H6: 0.25 | I6: 0.27
D7: data | E7: 17.114871 | F7: 20.654993 | G7: 5.77 | H7: 4.44 | I7: 2.36
B8: v EUR
B9: Průměrná cena za minutu volání v zemích mimo EU v Eurech | K9: Průměrná cena za SMS v zemích mimo EU v Eurech
B24: Průměrná cena za 1 GB dat v zemích mimo EU v Eurech
K26: 2025 | L26: průměrné ceny v zemích mimo EU | M26: v EUR | N26: meziroční změna
L27: za 1 minutu volání | M27: 0.54777618 | N27: ↘ 6,8 %
L28: za 1 SMS | M28: 0.27045713 | N28: ↗ 8,00 %
L29: za 1 GB dat | M29: 2.3589021 | N29: ↘ 46,9 %
B39: Zdroj: | C39: 32nd BEREC International Roaming Benchmark Data and Monitoring Report
C40: s. 52

Sheet Graf 48
B2: Vývoj cen za velkoobchodní služby ukončení volání v jednotlivých veřejných telefonních sítích poskytovaných v pevném místě v Kč za minutu v České republice
B4: období od | C4: 12/2016 | D4: 7/2021 | E4: 1/2022 | F4: 1/2023 | G4: 1/2024 | H4: 1/2025 | I4: 2025/2024
B5: cena | C5: 0.033 | D5: 0.0264 | E5: =25.572*0.0007 -> 0.0179004 | F5: =24.535*0.0007 -> 0.0171745 | G5: =(24.323*0.0007)-0.00001 -> 0.0170161 | H5: =(25.181*0.0007)-0.00001 -> 0.0176167 | I5: 0.0353
B6: v Kč/min., bez DPH
B9: =B2 -> Vývoj cen za velkoobchodní služby ukončení volání v jednotlivých veřejných telefonních sítích poskytovaných v pevném místě v Kč za minutu v České republice
K15: 2025 | M15: v Kč/min. bez DPH | N15: meziroční změna
L16: velkoobchodní cena za ukončení volání v pevném místě | M16: =H5 -> 0.0176167 | N16: ↗ 3,5 %
V25: 2021 | W25: 2022 | X25: 2023 | Y25: 2024 | Z25: 2025 | AA25: 2026
V26: =D5 -> 0.0264 | W26: 0.0179 | X26: 0.01717 | Y26: 0.0170161 | Z26: 0.0176167 | AA26: 0.0170476
B27: v Kč/min., bez DPH

Sheet Graf 49
B2: Vývoj cen za terminaci volání - mobilní sítě
B4: rok | C4: regulovaná cena
B5: 7/2021 | C5: =0.7*26.152/100 -> 0.183064
B6: 1/2022 | C6: =(0.55*25.572/100)-0.001 -> 0.139646
B7: 1/2023 | C7: =0.4*24.535/100 -> 0.09814
B8: 1/2024 | C8: =0.2*24.323/100 -> 0.048646
B9: 1/2025 | C9: =0.2*25.181/100-0.0001 -> 0.050262
B10: v Kč/min., bez DPH
B11: =B2 -> Vývoj cen za terminaci volání - mobilní sítě
F13: 2025 | H13: v Kč/min. bez DPH | I13: meziroční změna
G14: velkoobchodní cena za ukončení volání v mobilní síti | H14: =C9 -> 0.050262 | I14: ↗ 3,5 %

Sheet Graf 50
B2: Průměrný velkoobchodní výnos operátorů za terminaci dle služeb
C4: jednotka | D4: 2016 | E4: 2017 | F4: 2018 | G4: 2019 | H4: 2021 | I4: 2022 | J4: 2023 | K4: 2024 | L4: 2025
B5: průměrný výnos za ukončení volání minuty hlasového volání | C5: Kč bez DPH | D5: 0.27667175 | E5: 0.25866858 | F5: 0.25 | G5: 0.25994359 | H5: 0.22420543 | I5: 0.14872419 | J5: 0.10858104 | K5: 0.058164291 | L5: 0.05898219
B6: průměrný výnos za terminaci SMS | C6: Kč bez DPH | D6: 0.89998216 | E6: 0.9000019 | F6: 0.90000242 | G6: 0.90000027 | H6: 0.90000048 | I6: 0.90000036 | J6: 0.90000052 | K6: 0.89999604 | L6: 0.89999715
B7: průměrný výnos za terminaci MMS | C7: Kč bez DPH | D7: 3.4999847 | E7: 3.500014 | F7: 3.5000383 | G7: 3.5000265 | H7: 3.5000322 | I7: 3.4999479 | J7: 3.5001412 | K7: 3.5000338 | L7: 3.499927
F8: pův.: | G8: 0.25866858
G9: 0.89998015
G10: 3.5000504
B11: Vývoj průměrného velkoobchodního výnosu operátorů za ukončení volání za období 2021–2025

Sheet Graf 51-54
B2: Vývoj jednorázových cen pro služby zřízení plného a sdíleného zpřístupnění účastnického kovového vedení
C4: Jednorázová cena PPV | D4: Jednorázová cena SPV
B5: 31.12.2021 | C5: 1120 | D5: 1162
B6: 31.12.2022 | C6: 1120 | D6: 1162
B7: 31.12.2023 | C7: 1120 | D7: 1162
B8: 31.12.2024 | C8: 1120 | D8: 1162
B9: 31.12.2025 | C9: 1120 | D9: 1162
B10: v Kč s DPH | L10: 2025 | N10: cena | O10: meziroční změna
M11: poskytnutí kolokačního prostoru - skříň | N11: 37400 | O11: 0
M12: podrobné místní šetření - další zpráva | N12: 9574 | O12: 0
M13: pronájem kolokačního prostoru - skříň | N13: 4620 | O13: 0
B18: Vývoj měsíčních cen pro služby pronájem plného a sdíleného zpřístupnění účastnického kovového vedení
C20: Měsíční PPV | D20: Měsíční SPV
B21: 31.12.2021 | C21: 175 | D21: 26
B22: 31.12.2022 | C22: 175 | D22: 26
B23: 31.12.2023 | C23: 175 | D23: 26
B24: 31.12.2024 | C24: 175 | D24: 26
B25: 31.12.2025 | C25: 175 | D25: 26
B26: v Kč s DPH
B35: Vývoj jednorázových cen pro služby poskytnutí kolokačního prostoru a podrobného místního šetření
C37: Poskytnutí kolokačního prostoru - skříň | D37: Podrobné místní šetření - další zpráva
B38: 31.12.2021 | C38: 35050 | D38: 8624
B39: 31.12.2022 | C39: 35050 | D39: 8624
B40: 31.12.2023 | C40: 35050 | D40: 8624
B41: 31.12.2024 | C41: 37400 | D41: 9574
B42: 31.12.2025 | C42: 37400 | D42: 9574
B43: v Kč s DPH
B50: Vývoj měsíčních cen pro službu pronájem kolokačního prostoru
C52: Pronájem kolokačního prostoru - skříň
B53: 31.12.2021 | C53: 5035
B54: 31.12.2022 | C54: 5035
B55: 31.12.2023 | C55: 5035
B56: 31.12.2024 | C56: 4620
B57: 31.12.2025 | C57: 4620
B58: v Kč s DPH

Sheet Graf 55
B2: Velkoobchodní ceny CETIN za širokopásmový přístup k síti (referenční nabídka MMO)
C4: Tarify | D4: 2021 | E4: 2022 | F4: 2023 | G4: 2024 | H4: 2025
B5: zřízení připojení v koncovém bodě | C5: STANDARD (do 55 Mb) | D5: 990 | E5: 1890 | F5: 2490 | G5: 2760 | H5: 2830
C6: PREMIUM (do 110 Mb) | D6: 990 | E6: 1890 | F6: 2490 | G6: 2760 | H6: 2830
C7: SUPERFAST (do 1000 Mb / 2000 Mb) | D7: 990 | E7: 1890 | F7: 2490 | G7: 2760 | H7: 2830
C8: DIGITAL E1 (pro PBX) | D8: 2550 | E8: 2550 | F8: 3500 | G8: 3900 | H8: 3995
B9: měsíční cena za připojení v koncovém bodě | C9: STANDARD (do 55 Mb) | D9: 180 | E9: 180 | F9: 180 | G9: 199 | H9: 204
C10: PREMIUM (do 110 Mb) | D10: 227 | E10: 235 | F10: 180 | G10: 199 | H10: 204
C11: SUPERFAST (do 1000 Mb / 2000 Mb) | D11: 277 | E11: 298 | F11: 180 | G11: 199 | H11: 204
C12: DIGITAL E1 (pro PBX) | D12: 1456 | E12: 1456 | F12: 1456 | G12: 1456 | H12: 1456
B13: v Kč s DPH
B15: =B2 -> Velkoobchodní ceny CETIN za širokopásmový přístup k síti (referenční nabídka MMO)
J17: 2025 | L17: cena v Kč | M17: meziroční změna
K18: zřízení připojení v koncovém bodě STANDARD, PREMIUM, SUPERFAST | L18: 2830 | M18: ↗ 2,54 %
K20: měsíční cena za připojení v koncovém bodě STANDARD, PREMIUM, SUPERFAST | L20: 204 | M20: ↗ 2,51 %

Sheet Graf 56-57
B2: Vývoj cen za službu koncových pronajatých okruhů dle vybraných rychlostí (Carrier Ethernet Access) | K2: Vývoj cen za službu koncových pronajatých okruhů dle vybraných rychlostí (Carrier TDM Access)
C4: rok | D4: 2021 | E4: 2022 | F4: 2023 | G4: 2024 | H4: 2025 | K4: rok | M4: 2021 | N4: 2022 | O4: 2023 | P4: 2024 | Q4: 2025
B5: Carrier Ethernet Access (jednorázové ceny bez závazku) | C5: 2048/256 kbit/s | D5: 4000 | E5: 5000 | F5: 5000 | G5: 5000 | H5: 5000 | K5: Carrier TDM Access (jednorázové ceny bez závazku) | L5: 2048 kbit/s | M5: 5400 | N5: 5400 | O5: 5400 | P5: 5400 | Q5: 5400
C6: 6 Mbit/s | D6: 10000 | E6: 10000 | F6: 10000 | G6: 10000 | H6: 10000 | K6: Carrier TDM Access (měsíční ceny bez závazku) | L6: 2048 kbit/s | M6: 4200 | N6: 4200 | O6: 4200 | P6: 4200 | Q6: 4200
C7: 20 Mbit/s | D7: 16000 | E7: 16000 | F7: 16000 | G7: 16000 | H7: 16000
C8: 100 Mbit/s | D8: 26000 | E8: 26000 | F8: 26000 | G8: 26000 | H8: 26000 | K8: v Kč s DPH
B9: Carrier Ethernet Access (měsíční ceny bez závazku) | C9: 2048/256 kbit/s | D9: 550 | E9: 550 | F9: 550 | G9: 550 | H9: 550
C10: 6 Mbit/s | D10: 1850 | E10: 1850 | F10: 1850 | G10: 1850 | H10: 1850 | K10: =K2 -> Vývoj cen za službu koncových pronajatých okruhů dle vybraných rychlostí (Carrier TDM Access)
C11: 20 Mbit/s | D11: 3180 | E11: 3180 | F11: 3180 | G11: 3180 | H11: 3180
C12: 100 Mbit/s | D12: individuální | E12: individuální | F12: individuální | G12: individuální | H12: individuální
B13: v Kč s DPH
B15: =B2 -> Vývoj cen za službu koncových pronajatých okruhů dle vybraných rychlostí (Carrier Ethernet Access)

Sheet Graf 58
B2: Průměrná velkoobchodní cena za jednotlivé mobilní služby v ČR (všichni operátoři)
C4: 2021 | D4: 2022 | E4: 2023 | F4: 2024 | G4: 2025
B5: 1 minuta volání | C5: 0.37994505 | D5: 0.31587224 | E5: 0.33455353 | F5: 0.38880003 | G5: 0.38316389
B6: 1 SMS | C6: 0.35845911 | D6: 0.33344824 | E6: 0.30913779 | F6: 0.42245876 | G6: 0.45636175
B7: 1 GB dat | C7: 80.023884 | D7: 57.129518 | E7: 40.152286 | F7: 22.485747 | G7: 16.924506
B8: v Kč bez DPH, 1 GB = bez fixního LTE/5G
B10: =B2 -> Průměrná velkoobchodní cena za jednotlivé mobilní služby v ČR (všichni operátoři)
J12: 2025 | L12: za min. volání | M12: za SMS | N12: za 1 GB
K13: průměrná velkoobchodní cena v ČR všichni operátoři (v Kč bez DPH) | L13: =G5 -> 0.38316389 | M13: =G6 -> 0.45636175 | N13: =G7 -> 16.924506
K16: meziroční změna | L16: ↘ 2,6 % | M16: ↗ 9,5 % | N16: ↘ 24,8 %

Sheet Graf 59-61
B2: Vývoj průměrné malo/velkoobchodní ceny za skutečně provolanou minutu - trh celkem | L2: =B2 -> Vývoj průměrné malo/velkoobchodní ceny za skutečně provolanou minutu - trh celkem
C4: 2021 | D4: 2022 | E4: 2023 | F4: 2024 | G4: 2025
B5: prům.MOC | C5: 0.73711765 | D5: 0.73869174 | E5: 0.71900582 | F5: 0.69545746 | G5: 0.71495591
B6: prům.VOC | C6: 0.37994505 | D6: 0.31587224 | E6: 0.33455353 | F6: 0.38880003 | G6: 0.38316389
B7: v Kč/min., bez DPH
B19: Vývoj průměrné malo/velkoobchodní ceny za 1 SMS - trh celkem | L19: =B19 -> Vývoj průměrné malo/velkoobchodní ceny za 1 SMS - trh celkem
C21: 2021 | D21: 2022 | E21: 2023 | F21: 2024 | G21: 2025
B22: prům.MOC | C22: 0.55193453 | D22: 0.58052235 | E22: 0.62899397 | F22: 0.69600487 | G22: 0.79518542
B23: prům.VOC | C23: 0.35845911 | D23: 0.33344824 | E23: 0.30913779 | F23: 0.42245876 | G23: 0.45636175
B24: v Kč/SMS, bez DPH
B37: Vývoj průměrné malo/velkoobchodní ceny za 1 GB dat (bez fixního LTE/5G) - trh celkem | L37: =B37 -> Vývoj průměrné malo/velkoobchodní ceny za 1 GB dat (bez fixního LTE/5G) - trh celkem
C39: 2021 | D39: 2022 | E39: 2023 | F39: 2024 | G39: 2025
B40: prům.MOC | C40: 32.438687 | D40: 21.800005 | E40: 17.199935 | F40: 14.905241 | G40: 12.411744
B41: prům.VOC | C41: 80.023884 | D41: 57.129518 | E41: 40.152286 | F41: 22.485747 | G41: 16.924506
B42: v Kč/GB, bez DPH

Sheet Graf 62-67
O2: Vývoj ceny za 1 min. volání na maloobchodním trhu | T2: Vývoj ceny za 1 min. volání na velkoobchodním trhu
B3: Průměrná MO cena 1 min. volání v Kč bez DPH:
C4: 2015 | D4: 2016 | E4: 2017 | F4: 2018 | G4: 2019 | H4: 2020 | I4: 2021 | J4: 2022 | K4: 2023 | L4: 2024 | M4: 2025
B5: trh | C5: 1.0956805 | D5: 1.02209 | E5: 0.98010393 | F5: 0.94490867 | G5: 0.89910384 | H5: 0.77701617 | I5: 0.73711765 | J5: 0.73869174 | K5: 0.71900582 | L5: 0.69545746 | M5: 0.71495591
B6: Operátor 1 | C6: 1.0300377 | D6: 0.9585933 | E6: 0.91714618 | F6: 0.88291716 | G6: 0.87388034 | H6: 0.70684433 | I6: 0.66451809 | J6: 0.66705343 | K6: 0.69436797 | L6: 0.68103902 | M6: 0.69314675
B7: Operátor 2 | C7: 1.2440666 | D7: 1.1916704 | E7: 1.1366977 | F7: 1.1394662 | G7: 1.0735394 | H7: 0.89585033 | I7: 0.8157782 | J7: 0.8056165 | K7: 0.71768037 | L7: 0.68825903 | M7: 0.73289617
B8: Operátor 3 | C8: 1.0016803 | D8: 0.9214643 | E8: 0.88890414 | F8: 0.84153208 | G8: 0.7729293 | H8: 0.7577221 | I8: 0.74865964 | J8: 0.74885621 | K8: 0.73379606 | L8: 0.6970408 | M8: 0.70761166
B10: Průměrná VO cena 1 min. volání v Kč bez DPH:
C11: 2015 | D11: 2016 | E11: 2017 | F11: 2018 | G11: 2019 | H11: 2020 | I11: 2021 | J11: 2022 | K11: 2023 | L11: 2024 | M11: 2025
B12: trh | C12: 0.59719088 | D12: 0.47668014 | E12: 0.57286312 | F12: 0.62042944 | G12: 0.63671177 | H12: 0.42614393 | I12: 0.37994505 | J12: 0.31587224 | K12: 0.33455353 | L12: 0.38880003 | M12: 0.38316389
B13: Operátor 1 | C13: 0.63462739 | D13: 0.59909457 | E13: 0.56119513 | F13: 0.5636916 | G13: 0.72483948 | H13: 0.8154099 | I13: 0.77397206 | J13: 0.71737859 | K13: 0.76610363 | L13: 0.7876006 | M13: 0.84313133
B14: Operátor 2 | D14: 0.44450407 | E14: 0.57792157 | F14: 0.63077095 | G14: 0.6455925 | H14: 0.39440116 | I14: 0.35115906 | J14: 0.27657984 | K14: 0.2093785 | L14: 0.29229704 | M14: 0.26873177
B15: Operátor 3 | C15: 0.57373391 | D15: 0.57286288 | E15: 0.47768686 | F15: 0.46701731 | G15: 0.45796334 | H15: 0.45409431 | I15: 0.44681632 | J15: 0.44458054 | K15: 0.44463974 | L15: 0.47197309 | M15: 0.53061645
O19: Vývoj ceny za 1 SMS na maloobchodním trhu | T19: Vývoj ceny za 1 SMS na velkoobchodním trhu
B20: Průměrná MO cena 1 SMS v Kč bez DPH:
C21: 2015 | D21: 2016 | E21: 2017 | F21: 2018 | G21: 2019 | H21: 2020 | I21: 2021 | J21: 2022 | K21: 2023 | L21: 2024 | M21: 2025
B22: trh | C22: 0.55092719 | D22: 0.5658723 | E22: 0.51931067 | F22: 0.47434836 | G22: 0.46222976 | H22: 0.49609005 | I22: 0.55193453 | J22: 0.58052235 | K22: 0.62899397 | L22: 0.69600487 | M22: 0.79518542
B23: Operátor 1 | C23: 0.73674107 | D23: 0.80575652 | E23: 0.71768358 | F23: 0.64666329 | G23: 0.63370219 | H23: 0.77675006 | I23: 0.92371471 | J23: 0.97629358 | K23: 1.1088685 | L23: 1.2318836 | M23: 1.3652578
B24: Operátor 2 | C24: 0.35543337 | D24: 0.31858142 | E24: 0.27637559 | F24: 0.23908404 | G24: 0.21266692 | H24: 0.18528034 | I24: 0.17600904 | J24: 0.16738293 | K24: 0.14463276 | L24: 0.14296017 | M24: 0.13561496
B25: Operátor 3 | C25: 0.55155331 | D25: 0.52670373 | E25: 0.51421994 | F25: 0.49152127 | G25: 0.50887462 | H25: 0.48875396 | I25: 0.49543229 | J25: 0.49525479 | K25: 0.50509901 | L25: 0.55888675 | M25: 0.7237131
B27: Průměrná VO cena 1 SMS v Kč bez DPH:
C28: 2015 | D28: 2016 | E28: 2017 | F28: 2018 | G28: 2019 | H28: 2020 | I28: 2021 | J28: 2022 | K28: 2023 | L28: 2024 | M28: 2025
B29: trh | C29: 0.67104036 | D29: 0.36131873 | E29: 0.42989069 | F29: 0.46621327 | G29: 0.48496454 | H29: 0.33923731 | I29: 0.35845911 | J29: 0.33344824 | K29: 0.30913779 | L29: 0.42245876 | M29: 0.45636175
B30: Operátor 1 | C30: 0.68048444 | D30: 0.63351969 | E30: 0.59489119 | F30: 0.61451717 | G30: 0.58478343 | H30: 0.57124397 | I30: 0.49998041 | J30: 0.48439037 | K30: 0.45581705 | L30: 0.40597463 | M30: 0.36265737
B31: Operátor 2 | D31: 0.29732729 | E31: 0.39793073 | F31: 0.44091158 | G31: 0.47084539 | H31: 0.30099648 | I31: 0.33244643 | J31: 0.30205135 | K31: 0.21762829 | L31: 0.40857691 | M31: 0.45813591
B32: Operátor 3 | C32: 0.65236989 | D32: 0.63826777 | E32: 0.52775705 | F32: 0.5123107 | G32: 0.50024785 | H32: 0.50991306 | I32: 0.51220388 | J32: 0.50655909 | K32: 0.50782168 | L32: 0.53194022 | M32: 0.59010601
O37: Vývoj ceny za 1 GB na maloobchodním trhu
B38: Průměrná MO cena 1 GB dat v Kč bez DPH (bez zahrnutí fixní LTE/5G): | O38: (mobilní služby bez nomádních) | T38: Vývoj ceny za 1 GB na velkoobchodním trhu (mobilní služby)
C39: 2015 | D39: 2016 | E39: 2017 | F39: 2018 | G39: 2019 | H39: 2020 | I39: 2021 | J39: 2022 | K39: 2023 | L39: 2024 | M39: 2025
B40: trh | C40: 173.57621 | D40: 158.95434 | E40: 134.01274 | F40: 102.42571 | G40: 72.357056 | H40: 45.620819 | I40: 32.438687 | J40: 21.800005 | K40: 17.199935 | L40: 14.905241 | M40: 12.411744
B41: Operátor 1 | C41: 198.73593 | D41: 183.60327 | E41: 129.83401 | F41: 106.22706 | G41: 68.504397 | H41: 39.718289 | I41: 28.008713 | J41: 20.446811 | K41: 16.491784 | L41: 13.820879 | M41: 12.02566
B42: Operátor 2 | C42: 205.64517 | D42: 161.34149 | E42: 168.95697 | F42: 128.30725 | G42: 107.72923 | H42: 82.936076 | I42: 56.30687 | J42: 32.039598 | K42: 24.179051 | L42: 19.920729 | M42: 15.867599
B43: Operátor 3 | C43: 120 | D43: 140 | E43: 100 | F43: 70 | G43: 48.804802 | H43: 26.090782 | I43: 19.193222 | J43: 13.129225 | K43: 11.578378 | L43: 10.81636 | M43: 8.9393901
B45: Průměrná VO cena 1 GB dat v Kč bez DPH (bez zahrnutí fixní LTE/5G):
C46: 2015 | D46: 2016 | E46: 2017 | F46: 2018 | G46: 2019 | H46: 2020 | I46: 2021 | J46: 2022 | K46: 2023 | L46: 2024 | M46: 2025
B47: trh | C47: 317.34322 | D47: 215.42258 | E47: 156.62019 | F47: 102.70214 | G47: 70.032576 | H47: 90.212089 | I47: 80.023884 | J47: 57.129518 | K47: 40.152286 | L47: 22.485747 | M47: 16.924506
B48: Operátor 1 | C48: 317.84545 | D48: 271.86286 | E48: 243.10178 | F48: 241.26888 | G48: 220.10507 | H48: 140.57782 | I48: 97.270042 | J48: 63.896866 | K48: 42.249713 | L48: 31.18664 | M48: 25.398737
B49: Operátor 2 | C49: 0 | D49: 208.37197 | E49: 147.08633 | F49: 92.762401 | G49: 61.236277 | H49: 89.790802 | I49: 81.401054 | J49: 57.698792 | K49: 40.233305 | L49: 21.161174 | M49: 16.169818
B50: Operátor 3 | C50: 309.62569 | D50: 258.11146 | E50: 243.25328 | F50: 162.3673 | G50: 104.79533 | H50: 79.919233 | I50: 60.446701 | J50: 47.205378 | K50: 38.720545 | L50: 36.285625 | M50: 35.362485

Sheet Graf 68-70
B2: Průměrná velkoobchodní cena za minutu roamingového volání v EHP | I2: =B2 -> Průměrná velkoobchodní cena za minutu roamingového volání v EHP | P2: =B9 -> Průměrná velkoobchodní cena za roamingovou SMS v EHP
B4: volání | C4: 2021 | D4: 2022 | E4: 2023 | F4: 2024 | G4: 2025
B5: průměrná VO cena | C5: 0.016668489 | D5: 0.014547361 | E5: 0.012799254 | F5: 0.011926248 | G5: 0.011833716
B6: průměrná VO platba MVNO | C6: 0.030267956 | D6: 0.028470715 | E6: 0.022537714 | F6: 0.013384162 | G6: 0.0076636866
B7: regulovaná cena | C7: 0.032 | D7: 0.022 | E7: 0.022 | F7: 0.022 | G7: 0.019
B8: v EUR/min.
B9: Průměrná velkoobchodní cena za roamingovou SMS v EHP
B11: SMS | C11: 2021 | D11: 2022 | E11: 2023 | F11: 2024 | G11: 2025
B12: průměrná VO cena | C12: 0.002704069 | D12: 0.0018460518 | E12: 0.001916148 | F12: 0.0012481007 | G12: 0.0013443966
B13: průměrná VO platba MVNO | C13: 0.0095500598 | D13: 0.0068590819 | E13: 0.0037422764 | F13: 0.0024282418 | G13: 0.0013091417
B14: regulovaná cena | C14: 0.01 | D14: 0.004 | E14: 0.004 | F14: 0.004 | G14: 0.003
B15: v EUR/SMS
B16: Průměrná velkoobchodní cena za 1 GB roamingových dat v EHP
B18: data | C18: 2021 | D18: 2022 | E18: 2023 | F18: 2024 | G18: 2025
B19: průměrná VO cena | C19: 1.4166587 | D19: 0.98192997 | E19: 0.8341945 | F19: 0.71867001 | G19: 0.61326725 | I19: =B16 -> Průměrná velkoobchodní cena za 1 GB roamingových dat v EHP
B20: průměrná VO platba MVNO | C20: 2.7707985 | D20: 2.0433308 | E20: 1.5220182 | F20: 1.1616 | G20: 0.82890522
B21: regulovaná cena | C21: 2.5 | D21: 2 | E21: 1.8 | F21: 1.55 | G21: 1.3
B22: v EUR/GB
P30: 2025 | R30: za 1 min. | S30: za 1 SMS | T30: za 1 GB
Q31: v EUR | R31: 0,019 | S31: 0,003 | T31: 1,3
Q32: v Kč | R32: 0.47 | S32: 0.07 | T32: 32.65
B33: Vývoj maximálních regulovaných velkoobchodních cen za roaming v EHP
B35: datum platnosti regulované ceny od | C35: velkoobchodní roamingové ceny a maloobchodní příplatky
C36: odchozí volání | E36: SMS | G36: data
C37: EUR/min. | D37: CZK/min. | E37: EUR/SMS | F37: CZK/SMS | G37: EUR/GB | H37: CZK/GB
B38: 43466 | C38: 0.032 | D38: 0.8173 | E38: 0.01 | F38: 0.2554 | G38: 4.5 | H38: 114.939
B39: 43647 | C39: 0.032 | D39: 0.8211 | E39: 0.01 | F39: 0.2566 | G39: 4.5 | H39: 115.4655
B40: 43831 | C40: 0.032 | D40: 0.8211 | E40: 0.01 | F40: 0.2566 | G40: 3.5 | H40: 89.8065
B41: 44013 | C41: 0.032 | D41: 0.8671 | E41: 0.01 | F41: 0.271 | G41: 3.5 | H41: 94.8395
B42: 44197 | C42: 0.032 | D42: 0.8671 | E42: 0.01 | F42: 0.271 | G42: 3 | H42: 81.291
B43: 44378 | C43: 0.032 | D43: 0.8283 | E43: 0.01 | F43: 0.2588 | G43: 3 | H43: 77.649
B44: 44562 | C44: 0.032 | D44: 0.8283 | E44: 0.01 | F44: 0.2588 | G44: 2.5 | H44: 64.7075
B45: 44743 | C45: 0.022 | D45: 0.542 | E45: 0.004 | F45: 0.0985 | G45: 2 | H45: 49.2733
B46: 44927 | C46: 0.022 | D46: 0.542 | E46: 0.004 | F46: 0.0985 | G46: 1.8 | H46: 44.346
B47: 45108 | C47: 0.022 | D47: 0.5247 | E47: 0.004 | F47: 0.0954 | G47: 1.8 | H47: 42.9306
B48: 45292 | C48: 0.022 | D48: 0.5247 | E48: 0.004 | F48: 0.0954 | G48: 1.55 | H48: 36.968017
B49: 45474 | C49: 0.022 | D49: 0.55172333 | E49: 0.004 | F49: 0.10031333 | G49: 1.55 | H49: 38.871417
... B51: 45839 | C51: 0.019 | D51: 0.477223 | E51: 0.003 | F51: 0.075351 | G51: 1.3 | H51: 32.6521

Sheet Tabulka 1
B2: Přehled cen služeb souvisejících s připojením
B4: 2025 | C4: služba | D4: cena v Kč
C5: O2
C6: Připojení podmíněné dobudováním sítě na základě požadavku zákazníka | D6: individuální nacenění
C7: Aktivace služby | D7: 99
C8: O2 Pohodlná instalace-dodání a zprovoznění koncového zařízení technikem ke zřizované službě | D8: 499
C9: O2 Nadstandardní instalace – při zřízení služby v bytě nebo rodinném domě při požadavku vybudování vnitřních rozvodů bez dodání a zprovoznění koncového zařízení | D9: 499
C10: Instalace/konfigurace koncového zařízení technikem | D10: 1936
C11: Vybudování/úprava vnitřních rozvodů | D11: 1 452/hod.
C12: Vodafone
C13: Připojení služby Pevný internet | D13: 99
C14: Instalace služby Pevný internet při závazku 2 roky | D14: zdarma
C15: Instalace služby Pevný internet bez závazku | D15: 2599
C16: Vybudování dalšího přípojného místa | D16: 555
C17: Výjezd instalačního technika | D17: 1699
C18: Profi instalace přijímacího zařízení a zprovoznění služby pro produkt Pevný internet | D18: 2400
C19: Instalace IP telefonu technikem | D19: 3000
C20: T-Mobile
C21: Nadstandardní instalace – pevný internet | D21: 499
C22: Standardní instalace – pevný internet | D22: zdarma
C23: Servisní zásah | D23: 1999
C24: PODA
C25: Zavedení připojení (internet – tarify GPON 2Giga a GPON 2Giga + TV Mých 30) – nastavení zařízení, instalace a aktivace připojení | D25: 2000
C26: Zavedení připojení (internet – tarify DSL– nastavení zařízení, instalace a aktivace připojení) | D26: 3500
C27: Poplatek za instalaci systému WIFI Max | D27: 1300
C28: Konfigurace sítě pro vlastní zařízení zákazníka | D28: 650
C29: meziroční změna | D29: 0
B31: 2025 | D31: finanční jistoty / zálohy
C32: O2 | D32: až 10 000 Kč nebo do výše nákladů na dobudování komunikační sítě
C33: PODA | D33: 180 - 5 000 Kč
C34: T-Mobile | D34: 500 - 10 000 Kč
C35: Vodafone | D35: 2000
C36: meziroční změna | D36: 0
F40: Přehled cen služeb souvisejících s připojením
F42: Poskytovatel | G42: Služba | H42: 2024 | I42: 2025
F43: O2 | G43: Připojení podmíněné dobudováním sítě na základě požadavku zákazníka | H43: individuální nacenění | I43: individuální nacenění
G44: Aktivace služby | H44: 99 | I44: 99
G45: O2 Pohodlná instalace – dodání a zprovoznění koncového zařízení technikem ke zřizované službě | H45: 499 | I45: 499
G46: O2 Nadstandardní instalace – při zřízení služby v bytě nebo rodinném domě při požadavku vybudování vnitřních rozvodů bez dodání a zprovoznění koncového zařízení | H46: 499 | I46: 499
G47: Instalace/konfigurace koncového zařízení technikem | H47: 1936 | I47: 1936
G48: Vybudování / úprava vnitřních rozvodů | H48: 1 452/hod. | I48: 1 452/hod.
F49: Vodafone | G49: Připojení služby Pevný internet * | H49: 99 | I49: 99
G50: Instalace služby Pevný internet při závazku 2 roky ** | H50: zdarma | I50: zdarma
G51: Instalace služby Pevný internet bez závazku ** | H51: 2599 | I51: 2599
G52: Vybudování další účastnické přípojky/přípojného místa | H52: 555 | I52: 555
G53: Výjezd instalačního technika | H53: 1699 | I53: 1699
G54: Profi instalace přijímacího zařízení a zprovoznění služby pro produkt Pevný internet | H54: 2400 | I54: 2400
G55: Instalace IP telefonu technikem | H55: 3000 | I55: 3000
F56: T-Mobile | G56: Nadstandardní instalace – pevný internet | H56: 499 | I56: 499
G57: Standardní instalace – pevný internet | H57: zdarma | I57: zdarma
G58: Servisní zásah | H58: 1999 | I58: 1999
F59: PODA | G59: Zavedení připojení (internet – tarify GPON 2 Giga a GPON 2 Giga + TV Mých 30) – nastavení zařízení, instalace a aktivace připojení | H59: 2000 | I59: 2000
G60: Zavedení připojení (internet – tarify DSL– nastavení zařízení, instalace a aktivace připojení) *** | H60: x | I60: 3500
G61: Poplatek za instalaci systému WIFI Max **** | H61: 1300 | I61: 1300
G62: Konfigurace sítě pro vlastní zařízení zákazníka | H62: 650 | I62: 650
F64: Poznámka
F65: * připojení služby Pevný internet přes DOCSIS (2024-2025) a FTTH (2025)
F66: ** instalace služby Pevný internet přes 4G LTE(2024) a LTE i 5G (2025)
F67: *** zavedení připojení pro tarify DSL nebylo v roce 2024 v ceníku uvedeno
F68: **** název systému byl v roce 2024 multiWIFI
F70: Přehled finančních záruk pro zajištění plnění závazků zákazníka v souvislosti s připojením
F72: Parametr | G72: 2024 | H72: 2025
F73: O2 | G73: až 10 000 Kč nebo do výše nákladů na dobudování sítě | H73: až 10 000 Kč nebo do výše nákladů na dobudování sítě
F74: PODA | G74: 2 000 – 5 000 Kč | H74: 180 – 5 000 Kč
F75: T-Mobile | G75: 500 – 10 000 Kč | H75: 500 – 10 000 Kč
F76: Vodafone | G76: 2000 | H76: 2000

Sheet Tabulka 2
B2: Vývoj velkoobchodních cen za 1 MB fixní LTE/5G z referenčních nabídek operátorů (Full MVNO)
C4: ke konci roku 2021 | D4: ke konci roku 2022 | E4: ke konci roku 2023 | F4: ke konci roku 2024 | G4: ke konci roku 2025
B5: O2 | C5: 0.001 | D5: 0.0009 | E5: 0.00077 | F5: 0.000618 | G5: 0.000628
B6: T-Mobile | C6: 0.0241 | D6: *) | E6: *) | F6: *) | G6: *)
B7: Vodafone | C7: 0.0015 | D7: 0.0015 | E7: 0.001299 | F7: 0.001162 | G7: 0.001258
B8: v Kč/MB, bez DPH | G8: *) není stanovena
J9: 2025 | K9: O2 - pro full MVNO | L9: v Kč/MB bez DPH | M9: meziroční změna
K10: velkoobchodní cena fixní LTE/5G (2025 / 2024) | L10: 0.000628 | M10: ↗ 1,6 %
J15: 2025 | K15: Vodafone - pro full MVNO | L15: v Kč/MB bez DPH | M15: meziroční změna
K16: velkoobchodní cena fixní LTE/5G (2025 / 2024) | L16: =G7 -> 0.001258 | M16: ↗ 8,3 %

Sheet Tabulka 3
B2: Vývoj velkoobchodních cen za 1 MB dat FIX LTE/5G pro light MVNO z referenčních nabídek operátorů
B4: operátor | C4: pro 4G | D4: pro 5G | E4: pro 4G | F4: pro 5G | G4: pro 4G | H4: pro 5G | I4: pro 4G | J4: pro 5G | K4: pro 4G | L4: pro 5G | M4: pro 4G | N4: pro 5G | O4: pro 4G | P4: pro 5G | Q4: pro 4G | R4: pro 5G
C5: květen 2022 až říjen 2022 | E5: listopad 2022 až duben 2023 | G5: květen 2023 až říjen 2023 | I5: listopad 2023 až duben 2024 | K5: květen 2024 až říjen 2024 | M5: listopad 2024 až duben 2025 | O5: květen 2025 až říjen 2025 | Q5: listopad 2025 až duben 2026
B6: O2 | C6: 0.001 | E6: 0.001 | G6: 0.0009 | I6: 0.0009 | K6: 0.00085 | M6: 0.000794 | O6: 0.00077 | Q6: 0.000795
B7: T-Mobile | D7: **) | F7: **) | H7: **) | J7: **) | L7: **) | N7: **) | P7: **) | R7: **)
B8: Vodafone | C8: 0.0015 | D8: **) | E8: 0.0015 | F8: **) | G8: 0.0013 | H8: **) | I8: 0.001299 | J8: **) | K8: 0.00126 | L8: **) | M8: 0.001162 | N8: **) | O8: 0.001198 | P8: **) | Q8: 0.001258 | R8: **)
B9: v Kč/MB, bez DPH | L9: **) VO ceny za fixní LTE/5G přístup nebyly stanoveny
T10: 2025 | U10: O2 - pro light MVNO | V10: v Kč/MB bez DPH | W10: meziroční změna
U11: velkoobchodní cena fixní LTE/5G (2025 / 2024) | V11: 0.000795 | W11: ↗ 0,1 %
T15: 2025 | U15: Vodafone - pro light MVNO | V15: v Kč/MB bez DPH | W15: meziroční změna
U16: velkoobchodní cena fixní LTE/5G (2025 / 2024) | V16: 0.001258 | W16: ↗ 8,3 %

Sheet Tabulky 4-6
B2: Vývoj velkoobchodních cen za 1 MB dat pro full MVNO z referenčních nabídek operátorů
B4: Operátor | C4: pro 4G | E4: pro 4G | F4: pro 5G | G4: pro 4G | H4: pro 5G | I4: pro 4G | J4: pro 5G | K4: pro 4G | L4: pro 5G
C5: platné ke konci roku 2020 | D5: platné ke konci roku 2021 | E5: platné ke konci roku 2022 | G5: platné ke konci roku 2023 | I5: platné ke konci roku 2024 | K5: platné ke konci roku 2025
B6: O2 | C6: 0.0295 | D6: 0.026 | E6: 0.025 | G6: 0.014 | I6: 0.01167 | K6: 0.00977
B7: T-Mobile | C7: 0.045 | D7: 0.0246 | E7: 0.0112 | G7: 0.0103 | I7: 0.0092 | K7: 0.00897
B8: Vodafone | C8: 0.0186 | D8: 0.0116 | E8: 0.0153 | F8: 0.0361 | G8: 0.0134 | H8: 0.0314 | I8: 0.011 | J8: 0.0238 | K8: 0.0113 | L8: 0.0176
B9: v Kč/MB, bez DPH
P10: 2025 | Q10: O2 - pro full MVNO | R10: v Kč/MB bez DPH | S10: meziroční změna
Q11: VO cena mobilní pro: - 4G/5G (2025 / 2024) | R11: =K6 -> 0.00977 | S11: ↘ 16,3 %
P14: 2025 | Q14: T-Mobile - pro full MVNO | R14: v Kč/MB bez DPH | S14: meziroční změna
Q15: VO cena mobilní pro: - 4G/5G (2025 / 2024) | R15: =K7 -> 0.00897 | S15: ↘ 2,5 %
P18: 2025 | Q18: Vodafone - pro full MVNO | R18: v Kč/MB bez DPH | S18: meziroční změna
Q19: VO cena mobilní pro: - 4G (2025 / 2024) | R19: =K8 -> 0.0113 | S19: ↗ 2,7 %
B22: Vývoj velkoobchodních cen za 1 MB dat pro light MVNO z referenčních nabídek operátorů
B24: Operátor | C24: pro 4G | D24: pro 5G | E24: pro 4G | F24: pro 5G | G24: pro 4G | H24: pro 5G | I24: pro 4G | J24: pro 5G
C25: platné ke konci roku 2022 | E25: platné ke konci roku 2023 | G25: platné ke konci roku 2024 | I25: platné ke konci roku 2025
B26: O2 | C26: 0.027 | E26: 0.0202 | G26: 0.01739 | I26: 0.0147
B27: T-Mobile | C27: *) | D27: *) | E27: *) | F27: *) | G27: *) | H27: *) | I27: *) | J27: *)
B28: Vodafone | C28: - | D28: 0.0365 | E28: - | F28: 0.034009712 | G28: - | H28: 0.0238 | I28: - | J28: 0.0197
B29: v Kč/MB, bez DPH | F29: *) cena za MB stanovena formou VOC balíčků (v GB)
B31: T-Mobile - velkoobchodní ceny balíčků dat z referenční nabídky
B33: platné ke konci roku 2025
B34: 50 GB | C34: 21 GB | D34: 10 GB | E34: 6 GB | F34: 3 GB | G34: 2 GB | H34: 1 GB
B35: 290 | C35: 184 | D35: 127 | E35: 108 | F35: 69 | G35: 55 | H35: 33
B36: platné ke konci roku 2024
B37: 50 GB | C37: 21 GB | D37: 10 GB | E37: 6 GB | F37: 3 GB | G37: 2 GB | H37: 1 GB
B38: 304 | C38: 192 | D38: 132 | E38: 113 | F38: 72 | G38: 58 | H38: 35
B39: platné ke konci roku 2023
B40: 50 GB | C40: 21 GB | D40: 10 GB | E40: 6 GB | F40: 3 GB | G40: 2 GB | H40: 1 GB
B41: 317 | C41: 201 | D41: 138 | E41: 118 | F41: 75 | G41: 60 | H41: 37
B42: platné ke konci roku 2022
B43: 50 GB | C43: 21 GB | D43: 10 GB | E43: 6 GB | F43: 3 GB | G43: 2 GB | H43: 1 GB
B44: 325 | C44: 206 | D44: 142 | E44: 120 | F44: 77 | G44: 62 | H44: 37
B45: v Kč/balíček dat, bez DPH

Sheet Tabulka 7+g71
B2: Inflační vývoj v jednotlivých sektorech národního hospodářství České republiky
B4: Klasifikace | C4: Rok | D4: Národní hospodářství | E4: Potraviny a nealkoholické nápoje | F4: Alkoholické nápoje, tabák | G4: Odívání a obuv | H4: Bydlení, voda, energie, paliva | I4: Bytové vybavení, zařízení domácnosti; opravy | J4: Zdraví | K4: Doprava | L4: Pošty a telekomunikace | M4: Rekreace a kultura | N4: Vzdělávání | O4: Stravování a ubytování | P4: Ostatní zboží a služby
B5: ECOICOP | C5: 2000 | D5: 72.4 | E5: 73 | F5: 56.1 | G5: 137.9 | H5: 54 | I5: 112.6 | J5: 52.5 | K5: 96.2 | L5: 97.1 | M5: 90.7 | N5: 70.6 | O5: 63.5 | P5: 70.5
C6: 2001 | D6: 75.8 | E6: 76.7 | F6: 57.9 | G6: 135.6 | H6: 59.4 | I6: 112.7 | J6: 54.2 | K6: 96.5 | L6: 101.9 | M6: 95.3 | N6: 72.7 | O6: 65.2 | P6: 73.7
C7: 2002 | D7: 77.2 | E7: 75.2 | F7: 59 | G7: 132.1 | H7: 63 | I7: 112.6 | J7: 56.7 | K7: 94.6 | L7: 105.2 | M7: 97.2 | N7: 75.3 | O7: 67.5 | P7: 76.6
C8: 2003 | D8: 77.3 | E8: 73.6 | F8: 59.5 | G8: 125.6 | H8: 64.2 | I8: 110.9 | J8: 59 | K8: 94.7 | L8: 103 | M8: 96.9 | N8: 77.4 | O8: 68.7 | P8: 78.8
C9: 2004 | D9: 79.4 | E9: 76.1 | F9: 61.3 | G9: 120.4 | H9: 66.4 | I9: 108.6 | J9: 60.8 | K9: 96.9 | L9: 116.3 | M9: 97.9 | N9: 79.4 | O9: 72.8 | P9: 82.1
C10: 2005 | D10: 80.9 | E10: 75.9 | F10: 62.2 | G10: 114.2 | H10: 69.2 | I10: 106.5 | J10: 65.4 | K10: 98.3 | L10: 125.2 | M10: 99.6 | N10: 81.3 | O10: 76.1 | P10: 82.9
C11: 2006 | D11: 83 | E11: 76.6 | F11: 62.8 | G11: 107.3 | H11: 73.5 | I11: 105.1 | J11: 68.5 | K11: 99.8 | L11: 133.7 | M11: 101.1 | N11: 84.1 | O11: 78.1 | P11: 84.5
C12: 2007 | D12: 85.3 | E12: 80.1 | F12: 69.3 | G12: 106.5 | H12: 76 | I12: 105 | J12: 71 | K12: 100.2 | L12: 133.7 | M12: 101.1 | N12: 86.1 | O12: 80.3 | P12: 86.2
C13: 2008 | D13: 90.7 | E13: 86.6 | F13: 76.1 | G13: 105.4 | H13: 83.8 | I13: 105.4 | J13: 93.4 | K13: 102.6 | L13: 130.1 | M13: 101.9 | N13: 88.5 | O13: 86 | P13: 90.3
C14: 2009 | D14: 91.7 | E14: 83.2 | F14: 81.1 | G14: 102.6 | H14: 89.9 | I14: 104.8 | J14: 90.3 | K14: 96.6 | L14: 124.1 | M14: 101 | N14: 90.9 | O14: 87.9 | P14: 92
C15: 2010 | D15: 93 | E15: 84.4 | F15: 84.8 | G15: 100 | H15: 91.5 | I15: 104.3 | J15: 95 | K15: 99.2 | L15: 121.6 | M15: 100 | N15: 92.3 | O15: 90.1 | P15: 93
C16: 2011 | D16: 94.8 | E16: 88.3 | F16: 87.5 | G16: 97.7 | H16: 93.9 | I16: 102.8 | J16: 97.8 | K16: 101.9 | L16: 120.4 | M16: 98.1 | N16: 94.4 | O16: 91.5 | P16: 93.9
C17: 2012 | D17: 97.9 | E17: 94.5 | F17: 89.7 | G17: 94.8 | H17: 98.7 | I17: 101.6 | J17: 106.9 | K17: 104.9 | L17: 117.5 | M17: 97.9 | N17: 96.2 | O17: 95 | P17: 95.6
... C35: 2025 | D35: 155.2 | E35: 151.6 | F35: 161.4 | G35: 146 | H35: 171.6 | I35: 134.2 | J35: 153.4 | K35: 134.2 | L35: 97.4 | M35: 146.4 | N35: 149.5 | O35: 198 | P35: 150.3
B36: v %, bazický index (průměr 2015=100)
B38: Zdroj: | C38: Český statistický úřad, Veřejná databáze
R39: 2025 | T39: 2024 | U39: 2025 | V39: I2025/2024​
S40: národní hospodářství ČR | T40: 151.4 | U40: 155.2 | V40: ↗ 2,5 %
S41: pošty a telekomunikace | T41: 96.9 | U41: 97.4 | V41: ↗ 0,5 %
R43: 2025 | T43: 2021 | U43: 2025 | V43: I2025/2021​
S44: národní hospodářství ČR | T44: 116.1 | U44: 155.2 | V44: ↗ 33,7 %
S45: pošty a telekomunikace | T45: 91.5 | U45: 97.4 | V45: ↗ 6,5 %
B46: Inflační vývoj v sektoru pošt a telekomunikací a v celém národním hospodářství
